BEGIN:VCALENDAR
VERSION:2.0
PRODID:-//achurchnearyou.com//eventfeed//EN
CALSCALE:GREGORIAN
METHOD:PUBLISH
X-WR-TIMEZONE:UTC
BEGIN:VEVENT
SUMMARY:Maundy Thursday Eucharist
DTSTART:20250417T180000Z
DTEND:20250417T190000Z
DTSTAMP:20260420T075236Z
UID:11580142025-04-17 18:00:00+00:00achurchnearyou
CATEGORIES:
DESCRIPTION:Eucharist for Maundy Thursday with stripping of the altar
LOCATION:St Mary the Virgin \, Swineshead
URL:https://www.achurchnearyou.com/church/14662/service-and-events/events/
 1158014/
END:VEVENT
END:VCALENDAR
