BEGIN:VCALENDAR
VERSION:2.0
PRODID:-//achurchnearyou.com//eventfeed//EN
CALSCALE:GREGORIAN
METHOD:PUBLISH
X-WR-TIMEZONE:UTC
BEGIN:VEVENT
SUMMARY:Traditional Devotional Service for Good Friday
DTSTART:20250418T130000Z
DTEND:20250418T134500Z
DTSTAMP:20260420T075308Z
UID:11580202025-04-18 13:00:00+00:00achurchnearyou
CATEGORIES:
DESCRIPTION:Traditional devotional service\, with reading of the passion\,
  and prayers.
GEO:-0.20508;52.90712
LOCATION:St Mary & the Holy Rood
URL:https://www.achurchnearyou.com/church/14662/service-and-events/events/
 1158020/
END:VEVENT
END:VCALENDAR
