BEGIN:VCALENDAR
VERSION:2.0
PRODID:-//achurchnearyou.com//eventfeed//EN
CALSCALE:GREGORIAN
METHOD:PUBLISH
X-WR-TIMEZONE:UTC
BEGIN:VEVENT
SUMMARY:Flower Festival
DTSTART:20250502T090000Z
DTEND:20250511T120000Z
DTSTAMP:20260420T055343Z
UID:11975722025-05-02 09:00:00+00:00achurchnearyou
CATEGORIES:
DESCRIPTION:Come and see our wonderful Flower Festival Open 10:00 until 16
 :00 from 2nd to the 12th May
GEO:-0.20508;52.90712
LOCATION:St Mary & the Holy Rood
URL:https://www.achurchnearyou.com/church/14662/service-and-events/events/
 1197572/
END:VEVENT
END:VCALENDAR
