BEGIN:VCALENDAR
VERSION:2.0
PRODID:-//achurchnearyou.com//eventfeed//EN
CALSCALE:GREGORIAN
METHOD:PUBLISH
X-WR-TIMEZONE:UTC
BEGIN:VEVENT
SUMMARY:Holy Communion
DTSTART:20260315T104500Z
DTEND:20260315T114500Z
DTSTAMP:20260421T140105Z
UID:12988082026-03-15 10:45:00+00:00achurchnearyou
CATEGORIES:
DESCRIPTION:Service led by Revd. Christine \nTea / Coffee & biscuits serve
 d after the service
LOCATION:St Gilbert of Sempringham\, Brothertoft
URL:https://www.achurchnearyou.com/church/14666/service-and-events/events/
 1298808/
END:VEVENT
END:VCALENDAR
