BEGIN:VCALENDAR
VERSION:2.0
PRODID:-//achurchnearyou.com//eventfeed//EN
CALSCALE:GREGORIAN
METHOD:PUBLISH
X-WR-TIMEZONE:UTC
BEGIN:VEVENT
SUMMARY:Holy Communion
DTSTART;TZID=Europe/London:20250615T110000
DTEND;TZID=Europe/London:20250615T120000
DTSTAMP:20260420T052334Z
UID:12070802025-06-15 11:00:00+01:00achurchnearyou
CATEGORIES:
DESCRIPTION:Every 3rd Sunday of the Month at 11.00am
GEO:-0.32589;53.1251
LOCATION:Holy Trinity
URL:https://www.achurchnearyou.com/church/14674/service-and-events/events/
 1207080/
END:VEVENT
BEGIN:VEVENT
SUMMARY:Holy Communion
DTSTART;TZID=Europe/London:20250720T110000
DTEND;TZID=Europe/London:20250720T120000
DTSTAMP:20260420T052334Z
UID:12070802025-07-20 11:00:00+01:00achurchnearyou
CATEGORIES:
DESCRIPTION:Every 3rd Sunday of the Month at 11.00am
GEO:-0.32589;53.1251
LOCATION:Holy Trinity
URL:https://www.achurchnearyou.com/church/14674/service-and-events/events/
 1207080/
END:VEVENT
BEGIN:VEVENT
SUMMARY:Holy Communion
DTSTART;TZID=Europe/London:20250817T110000
DTEND;TZID=Europe/London:20250817T120000
DTSTAMP:20260420T052334Z
UID:12070802025-08-17 11:00:00+01:00achurchnearyou
CATEGORIES:
DESCRIPTION:Every 3rd Sunday of the Month at 11.00am
GEO:-0.32589;53.1251
LOCATION:Holy Trinity
URL:https://www.achurchnearyou.com/church/14674/service-and-events/events/
 1207080/
END:VEVENT
BEGIN:VEVENT
SUMMARY:Holy Communion
DTSTART;TZID=Europe/London:20250921T110000
DTEND;TZID=Europe/London:20250921T120000
DTSTAMP:20260420T052334Z
UID:12070802025-09-21 11:00:00+01:00achurchnearyou
CATEGORIES:
DESCRIPTION:Every 3rd Sunday of the Month at 11.00am
GEO:-0.32589;53.1251
LOCATION:Holy Trinity
URL:https://www.achurchnearyou.com/church/14674/service-and-events/events/
 1207080/
END:VEVENT
BEGIN:VEVENT
SUMMARY:Holy Communion
DTSTART;TZID=Europe/London:20251019T110000
DTEND;TZID=Europe/London:20251019T120000
DTSTAMP:20260420T052334Z
UID:12070802025-10-19 11:00:00+01:00achurchnearyou
CATEGORIES:
DESCRIPTION:Every 3rd Sunday of the Month at 11.00am
GEO:-0.32589;53.1251
LOCATION:Holy Trinity
URL:https://www.achurchnearyou.com/church/14674/service-and-events/events/
 1207080/
END:VEVENT
BEGIN:VEVENT
SUMMARY:Holy Communion
DTSTART;TZID=Europe/London:20251116T110000
DTEND;TZID=Europe/London:20251116T120000
DTSTAMP:20260420T052334Z
UID:12070802025-11-16 11:00:00+00:00achurchnearyou
CATEGORIES:
DESCRIPTION:Every 3rd Sunday of the Month at 11.00am
GEO:-0.32589;53.1251
LOCATION:Holy Trinity
URL:https://www.achurchnearyou.com/church/14674/service-and-events/events/
 1207080/
END:VEVENT
BEGIN:VEVENT
SUMMARY:Holy Communion
DTSTART;TZID=Europe/London:20251221T110000
DTEND;TZID=Europe/London:20251221T120000
DTSTAMP:20260420T052334Z
UID:12070802025-12-21 11:00:00+00:00achurchnearyou
CATEGORIES:
DESCRIPTION:Every 3rd Sunday of the Month at 11.00am
GEO:-0.32589;53.1251
LOCATION:Holy Trinity
URL:https://www.achurchnearyou.com/church/14674/service-and-events/events/
 1207080/
END:VEVENT
BEGIN:VEVENT
SUMMARY:Holy Communion
DTSTART;TZID=Europe/London:20260118T110000
DTEND;TZID=Europe/London:20260118T120000
DTSTAMP:20260420T052334Z
UID:12070802026-01-18 11:00:00+00:00achurchnearyou
CATEGORIES:
DESCRIPTION:Every 3rd Sunday of the Month at 11.00am
GEO:-0.32589;53.1251
LOCATION:Holy Trinity
URL:https://www.achurchnearyou.com/church/14674/service-and-events/events/
 1207080/
END:VEVENT
BEGIN:VEVENT
SUMMARY:Holy Communion
DTSTART;TZID=Europe/London:20260215T110000
DTEND;TZID=Europe/London:20260215T120000
DTSTAMP:20260420T052334Z
UID:12070802026-02-15 11:00:00+00:00achurchnearyou
CATEGORIES:
DESCRIPTION:Every 3rd Sunday of the Month at 11.00am
GEO:-0.32589;53.1251
LOCATION:Holy Trinity
URL:https://www.achurchnearyou.com/church/14674/service-and-events/events/
 1207080/
END:VEVENT
BEGIN:VEVENT
SUMMARY:Holy Communion
DTSTART;TZID=Europe/London:20260315T110000
DTEND;TZID=Europe/London:20260315T120000
DTSTAMP:20260420T052334Z
UID:12070802026-03-15 11:00:00+00:00achurchnearyou
CATEGORIES:
DESCRIPTION:Every 3rd Sunday of the Month at 11.00am
GEO:-0.32589;53.1251
LOCATION:Holy Trinity
URL:https://www.achurchnearyou.com/church/14674/service-and-events/events/
 1207080/
END:VEVENT
BEGIN:VEVENT
SUMMARY:Holy Communion
DTSTART;TZID=Europe/London:20260419T110000
DTEND;TZID=Europe/London:20260419T120000
DTSTAMP:20260420T052334Z
UID:12070802026-04-19 11:00:00+01:00achurchnearyou
CATEGORIES:
DESCRIPTION:Every 3rd Sunday of the Month at 11.00am
GEO:-0.32589;53.1251
LOCATION:Holy Trinity
URL:https://www.achurchnearyou.com/church/14674/service-and-events/events/
 1207080/
END:VEVENT
BEGIN:VEVENT
SUMMARY:Holy Communion
DTSTART;TZID=Europe/London:20260517T110000
DTEND;TZID=Europe/London:20260517T120000
DTSTAMP:20260420T052334Z
UID:12070802026-05-17 11:00:00+01:00achurchnearyou
CATEGORIES:
DESCRIPTION:Every 3rd Sunday of the Month at 11.00am
GEO:-0.32589;53.1251
LOCATION:Holy Trinity
URL:https://www.achurchnearyou.com/church/14674/service-and-events/events/
 1207080/
END:VEVENT
END:VCALENDAR
