BEGIN:VCALENDAR
VERSION:2.0
PRODID:-//achurchnearyou.com//eventfeed//EN
CALSCALE:GREGORIAN
METHOD:PUBLISH
X-WR-TIMEZONE:UTC
BEGIN:VEVENT
SUMMARY:15th Feb Dorrington Communion
DTSTART:20260215T103000Z
DTEND:20260215T113000Z
DTSTAMP:20260422T110925Z
UID:12797342026-02-15 10:30:00+00:00achurchnearyou
CATEGORIES:
DESCRIPTION:Holy Communion in Dorrington Church
GEO:-0.395;53.0669
LOCATION:St James and St John\, Dorrington
URL:https://www.achurchnearyou.com/church/14687/service-and-events/events/
 1279734/
END:VEVENT
END:VCALENDAR
