BEGIN:VCALENDAR
VERSION:2.0
PRODID:-//achurchnearyou.com//eventfeed//EN
CALSCALE:GREGORIAN
METHOD:PUBLISH
X-WR-TIMEZONE:UTC
BEGIN:VEVENT
SUMMARY:Sunday services at St Mary's Church in January at 11am
DTSTART:20250105T110000Z
DTEND:20250105T120000Z
DTSTAMP:20260419T232323Z
UID:11449982025-01-05 11:00:00+00:00achurchnearyou
CATEGORIES:
DESCRIPTION:Join us for worship and fellowship in our beautiful church.  I
 n January we will be together on the 5th for Morning Praise as we celebrat
 e the season of Epiphany.
GEO:-0.372511;53.014506
LOCATION:St Mary's\, Evedon
URL:https://www.achurchnearyou.com/church/14688/service-and-events/events/
 1144998/
END:VEVENT
END:VCALENDAR
