BEGIN:VCALENDAR
VERSION:2.0
PRODID:-//achurchnearyou.com//eventfeed//EN
CALSCALE:GREGORIAN
METHOD:PUBLISH
X-WR-TIMEZONE:UTC
BEGIN:VEVENT
SUMMARY:Ascension Day service
DTSTART:20250529T180000Z
DTEND:20250529T190000Z
DTSTAMP:20260422T141643Z
UID:11958892025-05-29 18:00:00+00:00achurchnearyou
CATEGORIES:
DESCRIPTION:A traditional service for the Ascension of our Lord
GEO:-0.408943;52.999643
LOCATION:St Denys'\, Sleaford
URL:https://www.sleafordparishchurch.co.uk/
END:VEVENT
END:VCALENDAR
