BEGIN:VCALENDAR
VERSION:2.0
PRODID:-//achurchnearyou.com//eventfeed//EN
CALSCALE:GREGORIAN
METHOD:PUBLISH
X-WR-TIMEZONE:UTC
BEGIN:VEVENT
SUMMARY:All Souls Commemoration
DTSTART:20251102T170000Z
DTEND:20251102T180000Z
DTSTAMP:20260420T011527Z
UID:12326622025-11-02 17:00:00+00:00achurchnearyou
CATEGORIES:
DESCRIPTION:A short service with hymns to commemorate All Souls Day
GEO:-0.408943;52.999643
LOCATION:St Denys'\, Sleaford
URL:https://www.sleafordparishchurch.co.uk/
END:VEVENT
END:VCALENDAR
