BEGIN:VCALENDAR
VERSION:2.0
PRODID:-//achurchnearyou.com//eventfeed//EN
CALSCALE:GREGORIAN
METHOD:PUBLISH
X-WR-TIMEZONE:UTC
BEGIN:VEVENT
SUMMARY:Timetable of Christmas events
DTSTART:20251206T103000Z
DTEND:20251226T113000Z
DTSTAMP:20260422T115842Z
UID:12675492025-12-06 10:30:00+00:00achurchnearyou
CATEGORIES:
DESCRIPTION:Download the attachment below for a Timetable of Christmas eve
 nts.\nWe look forward to welcoming you.
GEO:-0.280709;53.059169
LOCATION:St Luke
URL:https://www.achurchnearyou.com/church/14698/service-and-events/events/
 1267549/
END:VEVENT
END:VCALENDAR
