BEGIN:VCALENDAR
VERSION:2.0
PRODID:-//achurchnearyou.com//eventfeed//EN
CALSCALE:GREGORIAN
METHOD:PUBLISH
X-WR-TIMEZONE:UTC
BEGIN:VEVENT
SUMMARY:Morning Prayer on Monday 6th November
DTSTART:20231106T084500Z
DTEND:20231106T091500Z
DTSTAMP:20260422T065237Z
UID:9837082023-11-06 08:45:00+00:00achurchnearyou
CATEGORIES:
DESCRIPTION:Today we pray in our Benefice for Leasingham St Andrew’s and
  the Community of Leasingham \n\nIn our Diocese we are asked to pray for L
 incoln St Faith &ST Martin with St Peter\nThe Diocese of Arkansas – The 
 Episcopal Church\nEnergy industry\n\nOur scripture readings for today are\
 ;\nPsalm 2 and 146\nIsaiah 1 verses 1-20\nMatthew 1 verses 18-end\n\nEvery
  week day morning we gather together to pray.\nWe pray for Events\, People
  and Businesses around our Benefice.\nWe pray for the wider Communities in
  both our Diocese and abroad.\nWe remember our feast days and learn about 
 our Saints.\n\nPrayer is very powerful. Each week day morning we come toge
 ther in All Saints Church at 8.45am to pray together. On a Wednesday morni
 ng we celebrate at the Lords table in a short service of Holy Communion. I
 f you would like to join us in prayer either with us in Church or in the c
 omfort of your own home.\nhttps://www.churchofengland.org/prayer-and-worsh
 ip/join-us-service-daily-prayer\n\nPray for one and another\, proclaiming 
 Jesus in all we do and say today. Amen
LOCATION:All Saints\, Ruskington
URL:https://www.achurchnearyou.com/church/14708/service-and-events/events/
 983708/
END:VEVENT
END:VCALENDAR
