BEGIN:VCALENDAR
VERSION:2.0
PRODID:-//achurchnearyou.com//eventfeed//EN
CALSCALE:GREGORIAN
METHOD:PUBLISH
X-WR-TIMEZONE:UTC
BEGIN:VEVENT
SUMMARY:Morning Prayer
DTSTART;TZID=Europe/London:20241222T094500
DTEND;TZID=Europe/London:20241222T104500
DTSTAMP:20260421T094432Z
UID:11394212024-12-22 09:45:00+00:00achurchnearyou
CATEGORIES:
DESCRIPTION:An Authorised Lay Minister leads a  family friendly Morning Pr
 aise style service
GEO:-0.6257;53.00749
LOCATION:All Saints
URL:https://www.achurchnearyou.com/church/14732/service-and-events/events/
 1139421/
END:VEVENT
BEGIN:VEVENT
SUMMARY:Morning Prayer
DTSTART;TZID=Europe/London:20250126T094500
DTEND;TZID=Europe/London:20250126T104500
DTSTAMP:20260421T094432Z
UID:11394212025-01-26 09:45:00+00:00achurchnearyou
CATEGORIES:
DESCRIPTION:An Authorised Lay Minister leads a  family friendly Morning Pr
 aise style service
GEO:-0.6257;53.00749
LOCATION:All Saints
URL:https://www.achurchnearyou.com/church/14732/service-and-events/events/
 1139421/
END:VEVENT
BEGIN:VEVENT
SUMMARY:Morning Prayer
DTSTART;TZID=Europe/London:20250223T094500
DTEND;TZID=Europe/London:20250223T104500
DTSTAMP:20260421T094432Z
UID:11394212025-02-23 09:45:00+00:00achurchnearyou
CATEGORIES:
DESCRIPTION:An Authorised Lay Minister leads a  family friendly Morning Pr
 aise style service
GEO:-0.6257;53.00749
LOCATION:All Saints
URL:https://www.achurchnearyou.com/church/14732/service-and-events/events/
 1139421/
END:VEVENT
BEGIN:VEVENT
SUMMARY:Morning Prayer
DTSTART;TZID=Europe/London:20250323T094500
DTEND;TZID=Europe/London:20250323T104500
DTSTAMP:20260421T094432Z
UID:11394212025-03-23 09:45:00+00:00achurchnearyou
CATEGORIES:
DESCRIPTION:An Authorised Lay Minister leads a  family friendly Morning Pr
 aise style service
GEO:-0.6257;53.00749
LOCATION:All Saints
URL:https://www.achurchnearyou.com/church/14732/service-and-events/events/
 1139421/
END:VEVENT
BEGIN:VEVENT
SUMMARY:Morning Prayer
DTSTART;TZID=Europe/London:20250427T094500
DTEND;TZID=Europe/London:20250427T104500
DTSTAMP:20260421T094432Z
UID:11394212025-04-27 09:45:00+01:00achurchnearyou
CATEGORIES:
DESCRIPTION:An Authorised Lay Minister leads a  family friendly Morning Pr
 aise style service
GEO:-0.6257;53.00749
LOCATION:All Saints
URL:https://www.achurchnearyou.com/church/14732/service-and-events/events/
 1139421/
END:VEVENT
BEGIN:VEVENT
SUMMARY:Morning Prayer
DTSTART;TZID=Europe/London:20250525T094500
DTEND;TZID=Europe/London:20250525T104500
DTSTAMP:20260421T094432Z
UID:11394212025-05-25 09:45:00+01:00achurchnearyou
CATEGORIES:
DESCRIPTION:An Authorised Lay Minister leads a  family friendly Morning Pr
 aise style service
GEO:-0.6257;53.00749
LOCATION:All Saints
URL:https://www.achurchnearyou.com/church/14732/service-and-events/events/
 1139421/
END:VEVENT
BEGIN:VEVENT
SUMMARY:Morning Prayer
DTSTART;TZID=Europe/London:20250622T094500
DTEND;TZID=Europe/London:20250622T104500
DTSTAMP:20260421T094432Z
UID:11394212025-06-22 09:45:00+01:00achurchnearyou
CATEGORIES:
DESCRIPTION:An Authorised Lay Minister leads a  family friendly Morning Pr
 aise style service
GEO:-0.6257;53.00749
LOCATION:All Saints
URL:https://www.achurchnearyou.com/church/14732/service-and-events/events/
 1139421/
END:VEVENT
BEGIN:VEVENT
SUMMARY:Morning Prayer
DTSTART;TZID=Europe/London:20250727T094500
DTEND;TZID=Europe/London:20250727T104500
DTSTAMP:20260421T094432Z
UID:11394212025-07-27 09:45:00+01:00achurchnearyou
CATEGORIES:
DESCRIPTION:An Authorised Lay Minister leads a  family friendly Morning Pr
 aise style service
GEO:-0.6257;53.00749
LOCATION:All Saints
URL:https://www.achurchnearyou.com/church/14732/service-and-events/events/
 1139421/
END:VEVENT
BEGIN:VEVENT
SUMMARY:Morning Prayer
DTSTART;TZID=Europe/London:20250824T094500
DTEND;TZID=Europe/London:20250824T104500
DTSTAMP:20260421T094432Z
UID:11394212025-08-24 09:45:00+01:00achurchnearyou
CATEGORIES:
DESCRIPTION:An Authorised Lay Minister leads a  family friendly Morning Pr
 aise style service
GEO:-0.6257;53.00749
LOCATION:All Saints
URL:https://www.achurchnearyou.com/church/14732/service-and-events/events/
 1139421/
END:VEVENT
BEGIN:VEVENT
SUMMARY:Morning Prayer
DTSTART;TZID=Europe/London:20250928T094500
DTEND;TZID=Europe/London:20250928T104500
DTSTAMP:20260421T094432Z
UID:11394212025-09-28 09:45:00+01:00achurchnearyou
CATEGORIES:
DESCRIPTION:An Authorised Lay Minister leads a  family friendly Morning Pr
 aise style service
GEO:-0.6257;53.00749
LOCATION:All Saints
URL:https://www.achurchnearyou.com/church/14732/service-and-events/events/
 1139421/
END:VEVENT
BEGIN:VEVENT
SUMMARY:Morning Prayer
DTSTART;TZID=Europe/London:20251026T094500
DTEND;TZID=Europe/London:20251026T104500
DTSTAMP:20260421T094432Z
UID:11394212025-10-26 09:45:00+00:00achurchnearyou
CATEGORIES:
DESCRIPTION:An Authorised Lay Minister leads a  family friendly Morning Pr
 aise style service
GEO:-0.6257;53.00749
LOCATION:All Saints
URL:https://www.achurchnearyou.com/church/14732/service-and-events/events/
 1139421/
END:VEVENT
BEGIN:VEVENT
SUMMARY:Morning Prayer
DTSTART;TZID=Europe/London:20251123T094500
DTEND;TZID=Europe/London:20251123T104500
DTSTAMP:20260421T094432Z
UID:11394212025-11-23 09:45:00+00:00achurchnearyou
CATEGORIES:
DESCRIPTION:An Authorised Lay Minister leads a  family friendly Morning Pr
 aise style service
GEO:-0.6257;53.00749
LOCATION:All Saints
URL:https://www.achurchnearyou.com/church/14732/service-and-events/events/
 1139421/
END:VEVENT
BEGIN:VEVENT
SUMMARY:Morning Prayer
DTSTART;TZID=Europe/London:20251228T094500
DTEND;TZID=Europe/London:20251228T104500
DTSTAMP:20260421T094432Z
UID:11394212025-12-28 09:45:00+00:00achurchnearyou
CATEGORIES:
DESCRIPTION:An Authorised Lay Minister leads a  family friendly Morning Pr
 aise style service
GEO:-0.6257;53.00749
LOCATION:All Saints
URL:https://www.achurchnearyou.com/church/14732/service-and-events/events/
 1139421/
END:VEVENT
BEGIN:VEVENT
SUMMARY:Morning Prayer
DTSTART;TZID=Europe/London:20260125T094500
DTEND;TZID=Europe/London:20260125T104500
DTSTAMP:20260421T094432Z
UID:11394212026-01-25 09:45:00+00:00achurchnearyou
CATEGORIES:
DESCRIPTION:An Authorised Lay Minister leads a  family friendly Morning Pr
 aise style service
GEO:-0.6257;53.00749
LOCATION:All Saints
URL:https://www.achurchnearyou.com/church/14732/service-and-events/events/
 1139421/
END:VEVENT
BEGIN:VEVENT
SUMMARY:Morning Prayer
DTSTART;TZID=Europe/London:20260222T094500
DTEND;TZID=Europe/London:20260222T104500
DTSTAMP:20260421T094432Z
UID:11394212026-02-22 09:45:00+00:00achurchnearyou
CATEGORIES:
DESCRIPTION:An Authorised Lay Minister leads a  family friendly Morning Pr
 aise style service
GEO:-0.6257;53.00749
LOCATION:All Saints
URL:https://www.achurchnearyou.com/church/14732/service-and-events/events/
 1139421/
END:VEVENT
BEGIN:VEVENT
SUMMARY:Morning Prayer
DTSTART;TZID=Europe/London:20260322T094500
DTEND;TZID=Europe/London:20260322T104500
DTSTAMP:20260421T094432Z
UID:11394212026-03-22 09:45:00+00:00achurchnearyou
CATEGORIES:
DESCRIPTION:An Authorised Lay Minister leads a  family friendly Morning Pr
 aise style service
GEO:-0.6257;53.00749
LOCATION:All Saints
URL:https://www.achurchnearyou.com/church/14732/service-and-events/events/
 1139421/
END:VEVENT
BEGIN:VEVENT
SUMMARY:Morning Prayer
DTSTART;TZID=Europe/London:20260426T094500
DTEND;TZID=Europe/London:20260426T104500
DTSTAMP:20260421T094432Z
UID:11394212026-04-26 09:45:00+01:00achurchnearyou
CATEGORIES:
DESCRIPTION:An Authorised Lay Minister leads a  family friendly Morning Pr
 aise style service
GEO:-0.6257;53.00749
LOCATION:All Saints
URL:https://www.achurchnearyou.com/church/14732/service-and-events/events/
 1139421/
END:VEVENT
BEGIN:VEVENT
SUMMARY:Morning Prayer
DTSTART;TZID=Europe/London:20260524T094500
DTEND;TZID=Europe/London:20260524T104500
DTSTAMP:20260421T094432Z
UID:11394212026-05-24 09:45:00+01:00achurchnearyou
CATEGORIES:
DESCRIPTION:An Authorised Lay Minister leads a  family friendly Morning Pr
 aise style service
GEO:-0.6257;53.00749
LOCATION:All Saints
URL:https://www.achurchnearyou.com/church/14732/service-and-events/events/
 1139421/
END:VEVENT
BEGIN:VEVENT
SUMMARY:Morning Prayer
DTSTART;TZID=Europe/London:20260628T094500
DTEND;TZID=Europe/London:20260628T104500
DTSTAMP:20260421T094432Z
UID:11394212026-06-28 09:45:00+01:00achurchnearyou
CATEGORIES:
DESCRIPTION:An Authorised Lay Minister leads a  family friendly Morning Pr
 aise style service
GEO:-0.6257;53.00749
LOCATION:All Saints
URL:https://www.achurchnearyou.com/church/14732/service-and-events/events/
 1139421/
END:VEVENT
BEGIN:VEVENT
SUMMARY:Morning Prayer
DTSTART;TZID=Europe/London:20260726T094500
DTEND;TZID=Europe/London:20260726T104500
DTSTAMP:20260421T094432Z
UID:11394212026-07-26 09:45:00+01:00achurchnearyou
CATEGORIES:
DESCRIPTION:An Authorised Lay Minister leads a  family friendly Morning Pr
 aise style service
GEO:-0.6257;53.00749
LOCATION:All Saints
URL:https://www.achurchnearyou.com/church/14732/service-and-events/events/
 1139421/
END:VEVENT
BEGIN:VEVENT
SUMMARY:Morning Prayer
DTSTART;TZID=Europe/London:20260823T094500
DTEND;TZID=Europe/London:20260823T104500
DTSTAMP:20260421T094432Z
UID:11394212026-08-23 09:45:00+01:00achurchnearyou
CATEGORIES:
DESCRIPTION:An Authorised Lay Minister leads a  family friendly Morning Pr
 aise style service
GEO:-0.6257;53.00749
LOCATION:All Saints
URL:https://www.achurchnearyou.com/church/14732/service-and-events/events/
 1139421/
END:VEVENT
BEGIN:VEVENT
SUMMARY:Morning Prayer
DTSTART;TZID=Europe/London:20260927T094500
DTEND;TZID=Europe/London:20260927T104500
DTSTAMP:20260421T094432Z
UID:11394212026-09-27 09:45:00+01:00achurchnearyou
CATEGORIES:
DESCRIPTION:An Authorised Lay Minister leads a  family friendly Morning Pr
 aise style service
GEO:-0.6257;53.00749
LOCATION:All Saints
URL:https://www.achurchnearyou.com/church/14732/service-and-events/events/
 1139421/
END:VEVENT
BEGIN:VEVENT
SUMMARY:Morning Prayer
DTSTART;TZID=Europe/London:20261025T094500
DTEND;TZID=Europe/London:20261025T104500
DTSTAMP:20260421T094432Z
UID:11394212026-10-25 09:45:00+00:00achurchnearyou
CATEGORIES:
DESCRIPTION:An Authorised Lay Minister leads a  family friendly Morning Pr
 aise style service
GEO:-0.6257;53.00749
LOCATION:All Saints
URL:https://www.achurchnearyou.com/church/14732/service-and-events/events/
 1139421/
END:VEVENT
BEGIN:VEVENT
SUMMARY:Morning Prayer
DTSTART;TZID=Europe/London:20261122T094500
DTEND;TZID=Europe/London:20261122T104500
DTSTAMP:20260421T094432Z
UID:11394212026-11-22 09:45:00+00:00achurchnearyou
CATEGORIES:
DESCRIPTION:An Authorised Lay Minister leads a  family friendly Morning Pr
 aise style service
GEO:-0.6257;53.00749
LOCATION:All Saints
URL:https://www.achurchnearyou.com/church/14732/service-and-events/events/
 1139421/
END:VEVENT
BEGIN:VEVENT
SUMMARY:Morning Prayer
DTSTART;TZID=Europe/London:20261227T094500
DTEND;TZID=Europe/London:20261227T104500
DTSTAMP:20260421T094432Z
UID:11394212026-12-27 09:45:00+00:00achurchnearyou
CATEGORIES:
DESCRIPTION:An Authorised Lay Minister leads a  family friendly Morning Pr
 aise style service
GEO:-0.6257;53.00749
LOCATION:All Saints
URL:https://www.achurchnearyou.com/church/14732/service-and-events/events/
 1139421/
END:VEVENT
BEGIN:VEVENT
SUMMARY:Morning Prayer
DTSTART;TZID=Europe/London:20270124T094500
DTEND;TZID=Europe/London:20270124T104500
DTSTAMP:20260421T094432Z
UID:11394212027-01-24 09:45:00+00:00achurchnearyou
CATEGORIES:
DESCRIPTION:An Authorised Lay Minister leads a  family friendly Morning Pr
 aise style service
GEO:-0.6257;53.00749
LOCATION:All Saints
URL:https://www.achurchnearyou.com/church/14732/service-and-events/events/
 1139421/
END:VEVENT
BEGIN:VEVENT
SUMMARY:Morning Prayer
DTSTART;TZID=Europe/London:20270228T094500
DTEND;TZID=Europe/London:20270228T104500
DTSTAMP:20260421T094432Z
UID:11394212027-02-28 09:45:00+00:00achurchnearyou
CATEGORIES:
DESCRIPTION:An Authorised Lay Minister leads a  family friendly Morning Pr
 aise style service
GEO:-0.6257;53.00749
LOCATION:All Saints
URL:https://www.achurchnearyou.com/church/14732/service-and-events/events/
 1139421/
END:VEVENT
BEGIN:VEVENT
SUMMARY:Morning Prayer
DTSTART;TZID=Europe/London:20270328T094500
DTEND;TZID=Europe/London:20270328T104500
DTSTAMP:20260421T094432Z
UID:11394212027-03-28 09:45:00+01:00achurchnearyou
CATEGORIES:
DESCRIPTION:An Authorised Lay Minister leads a  family friendly Morning Pr
 aise style service
GEO:-0.6257;53.00749
LOCATION:All Saints
URL:https://www.achurchnearyou.com/church/14732/service-and-events/events/
 1139421/
END:VEVENT
END:VCALENDAR
