BEGIN:VCALENDAR
VERSION:2.0
PRODID:-//achurchnearyou.com//eventfeed//EN
CALSCALE:GREGORIAN
METHOD:PUBLISH
X-WR-TIMEZONE:UTC
BEGIN:VEVENT
SUMMARY:Holy Communion at 9am on the 3rd Sunday of every alternate month
DTSTART;TZID=Europe/London:20260517T103000
DTEND;TZID=Europe/London:20260517T113000
DTSTAMP:20260421T144511Z
UID:5468402026-05-17 10:30:00+01:00achurchnearyou
CATEGORIES:
DESCRIPTION:Holy Communion at 9am on the 3rd Sunday of every alternate mon
 th – please check the service rota on the benefice website.  www.southcl
 iffchurches.uk.  The Sunday service of Holy Communion is available via Fac
 ebook and the necessary link can be found on the website homepage
GEO:-0.61701;52.95767
LOCATION:St Mary
URL:http://www.southcliffchurches.uk/public/index.php
END:VEVENT
BEGIN:VEVENT
SUMMARY:Holy Communion at 9am on the 3rd Sunday of every alternate month
DTSTART;TZID=Europe/London:20260621T103000
DTEND;TZID=Europe/London:20260621T113000
DTSTAMP:20260421T144511Z
UID:5468402026-06-21 10:30:00+01:00achurchnearyou
CATEGORIES:
DESCRIPTION:Holy Communion at 9am on the 3rd Sunday of every alternate mon
 th – please check the service rota on the benefice website.  www.southcl
 iffchurches.uk.  The Sunday service of Holy Communion is available via Fac
 ebook and the necessary link can be found on the website homepage
GEO:-0.61701;52.95767
LOCATION:St Mary
URL:http://www.southcliffchurches.uk/public/index.php
END:VEVENT
BEGIN:VEVENT
SUMMARY:Holy Communion at 9am on the 3rd Sunday of every alternate month
DTSTART;TZID=Europe/London:20260719T103000
DTEND;TZID=Europe/London:20260719T113000
DTSTAMP:20260421T144511Z
UID:5468402026-07-19 10:30:00+01:00achurchnearyou
CATEGORIES:
DESCRIPTION:Holy Communion at 9am on the 3rd Sunday of every alternate mon
 th – please check the service rota on the benefice website.  www.southcl
 iffchurches.uk.  The Sunday service of Holy Communion is available via Fac
 ebook and the necessary link can be found on the website homepage
GEO:-0.61701;52.95767
LOCATION:St Mary
URL:http://www.southcliffchurches.uk/public/index.php
END:VEVENT
BEGIN:VEVENT
SUMMARY:Holy Communion at 9am on the 3rd Sunday of every alternate month
DTSTART;TZID=Europe/London:20260816T103000
DTEND;TZID=Europe/London:20260816T113000
DTSTAMP:20260421T144511Z
UID:5468402026-08-16 10:30:00+01:00achurchnearyou
CATEGORIES:
DESCRIPTION:Holy Communion at 9am on the 3rd Sunday of every alternate mon
 th – please check the service rota on the benefice website.  www.southcl
 iffchurches.uk.  The Sunday service of Holy Communion is available via Fac
 ebook and the necessary link can be found on the website homepage
GEO:-0.61701;52.95767
LOCATION:St Mary
URL:http://www.southcliffchurches.uk/public/index.php
END:VEVENT
BEGIN:VEVENT
SUMMARY:Holy Communion at 9am on the 3rd Sunday of every alternate month
DTSTART;TZID=Europe/London:20260920T103000
DTEND;TZID=Europe/London:20260920T113000
DTSTAMP:20260421T144511Z
UID:5468402026-09-20 10:30:00+01:00achurchnearyou
CATEGORIES:
DESCRIPTION:Holy Communion at 9am on the 3rd Sunday of every alternate mon
 th – please check the service rota on the benefice website.  www.southcl
 iffchurches.uk.  The Sunday service of Holy Communion is available via Fac
 ebook and the necessary link can be found on the website homepage
GEO:-0.61701;52.95767
LOCATION:St Mary
URL:http://www.southcliffchurches.uk/public/index.php
END:VEVENT
BEGIN:VEVENT
SUMMARY:Holy Communion at 9am on the 3rd Sunday of every alternate month
DTSTART;TZID=Europe/London:20261018T103000
DTEND;TZID=Europe/London:20261018T113000
DTSTAMP:20260421T144511Z
UID:5468402026-10-18 10:30:00+01:00achurchnearyou
CATEGORIES:
DESCRIPTION:Holy Communion at 9am on the 3rd Sunday of every alternate mon
 th – please check the service rota on the benefice website.  www.southcl
 iffchurches.uk.  The Sunday service of Holy Communion is available via Fac
 ebook and the necessary link can be found on the website homepage
GEO:-0.61701;52.95767
LOCATION:St Mary
URL:http://www.southcliffchurches.uk/public/index.php
END:VEVENT
BEGIN:VEVENT
SUMMARY:Holy Communion at 9am on the 3rd Sunday of every alternate month
DTSTART;TZID=Europe/London:20261115T103000
DTEND;TZID=Europe/London:20261115T113000
DTSTAMP:20260421T144511Z
UID:5468402026-11-15 10:30:00+00:00achurchnearyou
CATEGORIES:
DESCRIPTION:Holy Communion at 9am on the 3rd Sunday of every alternate mon
 th – please check the service rota on the benefice website.  www.southcl
 iffchurches.uk.  The Sunday service of Holy Communion is available via Fac
 ebook and the necessary link can be found on the website homepage
GEO:-0.61701;52.95767
LOCATION:St Mary
URL:http://www.southcliffchurches.uk/public/index.php
END:VEVENT
BEGIN:VEVENT
SUMMARY:Holy Communion at 9am on the 3rd Sunday of every alternate month
DTSTART;TZID=Europe/London:20261220T103000
DTEND;TZID=Europe/London:20261220T113000
DTSTAMP:20260421T144511Z
UID:5468402026-12-20 10:30:00+00:00achurchnearyou
CATEGORIES:
DESCRIPTION:Holy Communion at 9am on the 3rd Sunday of every alternate mon
 th – please check the service rota on the benefice website.  www.southcl
 iffchurches.uk.  The Sunday service of Holy Communion is available via Fac
 ebook and the necessary link can be found on the website homepage
GEO:-0.61701;52.95767
LOCATION:St Mary
URL:http://www.southcliffchurches.uk/public/index.php
END:VEVENT
BEGIN:VEVENT
SUMMARY:Holy Communion at 9am on the 3rd Sunday of every alternate month
DTSTART;TZID=Europe/London:20270117T103000
DTEND;TZID=Europe/London:20270117T113000
DTSTAMP:20260421T144511Z
UID:5468402027-01-17 10:30:00+00:00achurchnearyou
CATEGORIES:
DESCRIPTION:Holy Communion at 9am on the 3rd Sunday of every alternate mon
 th – please check the service rota on the benefice website.  www.southcl
 iffchurches.uk.  The Sunday service of Holy Communion is available via Fac
 ebook and the necessary link can be found on the website homepage
GEO:-0.61701;52.95767
LOCATION:St Mary
URL:http://www.southcliffchurches.uk/public/index.php
END:VEVENT
BEGIN:VEVENT
SUMMARY:Holy Communion at 9am on the 3rd Sunday of every alternate month
DTSTART;TZID=Europe/London:20270221T103000
DTEND;TZID=Europe/London:20270221T113000
DTSTAMP:20260421T144511Z
UID:5468402027-02-21 10:30:00+00:00achurchnearyou
CATEGORIES:
DESCRIPTION:Holy Communion at 9am on the 3rd Sunday of every alternate mon
 th – please check the service rota on the benefice website.  www.southcl
 iffchurches.uk.  The Sunday service of Holy Communion is available via Fac
 ebook and the necessary link can be found on the website homepage
GEO:-0.61701;52.95767
LOCATION:St Mary
URL:http://www.southcliffchurches.uk/public/index.php
END:VEVENT
BEGIN:VEVENT
SUMMARY:Holy Communion at 9am on the 3rd Sunday of every alternate month
DTSTART;TZID=Europe/London:20270321T103000
DTEND;TZID=Europe/London:20270321T113000
DTSTAMP:20260421T144511Z
UID:5468402027-03-21 10:30:00+00:00achurchnearyou
CATEGORIES:
DESCRIPTION:Holy Communion at 9am on the 3rd Sunday of every alternate mon
 th – please check the service rota on the benefice website.  www.southcl
 iffchurches.uk.  The Sunday service of Holy Communion is available via Fac
 ebook and the necessary link can be found on the website homepage
GEO:-0.61701;52.95767
LOCATION:St Mary
URL:http://www.southcliffchurches.uk/public/index.php
END:VEVENT
BEGIN:VEVENT
SUMMARY:Holy Communion at 9am on the 3rd Sunday of every alternate month
DTSTART;TZID=Europe/London:20270418T103000
DTEND;TZID=Europe/London:20270418T113000
DTSTAMP:20260421T144511Z
UID:5468402027-04-18 10:30:00+01:00achurchnearyou
CATEGORIES:
DESCRIPTION:Holy Communion at 9am on the 3rd Sunday of every alternate mon
 th – please check the service rota on the benefice website.  www.southcl
 iffchurches.uk.  The Sunday service of Holy Communion is available via Fac
 ebook and the necessary link can be found on the website homepage
GEO:-0.61701;52.95767
LOCATION:St Mary
URL:http://www.southcliffchurches.uk/public/index.php
END:VEVENT
END:VCALENDAR
