BEGIN:VCALENDAR
VERSION:2.0
PRODID:-//achurchnearyou.com//eventfeed//EN
CALSCALE:GREGORIAN
METHOD:PUBLISH
X-WR-TIMEZONE:UTC
BEGIN:VEVENT
SUMMARY:Coffee Morning
DTSTART;TZID=Europe/London:20260506T100000
DTEND;TZID=Europe/London:20260506T113000
DTSTAMP:20260421T082820Z
UID:9592582026-05-06 10:00:00+01:00achurchnearyou
CATEGORIES:
DESCRIPTION:Coffee Morning with refreshments\, raffle and other items to b
 uy all in aid of church funds. All are welcome.
GEO:-0.74083;53.57663
LOCATION:St Oswald's Althorpe
URL:https://www.achurchnearyou.com/church/14745/service-and-events/events/
 959258/
END:VEVENT
BEGIN:VEVENT
SUMMARY:Coffee Morning
DTSTART;TZID=Europe/London:20260520T100000
DTEND;TZID=Europe/London:20260520T113000
DTSTAMP:20260421T082820Z
UID:9592582026-05-20 10:00:00+01:00achurchnearyou
CATEGORIES:
DESCRIPTION:Coffee Morning with refreshments\, raffle and other items to b
 uy all in aid of church funds. All are welcome.
GEO:-0.74083;53.57663
LOCATION:St Oswald's Althorpe
URL:https://www.achurchnearyou.com/church/14745/service-and-events/events/
 959258/
END:VEVENT
BEGIN:VEVENT
SUMMARY:Coffee Morning
DTSTART;TZID=Europe/London:20260603T100000
DTEND;TZID=Europe/London:20260603T113000
DTSTAMP:20260421T082820Z
UID:9592582026-06-03 10:00:00+01:00achurchnearyou
CATEGORIES:
DESCRIPTION:Coffee Morning with refreshments\, raffle and other items to b
 uy all in aid of church funds. All are welcome.
GEO:-0.74083;53.57663
LOCATION:St Oswald's Althorpe
URL:https://www.achurchnearyou.com/church/14745/service-and-events/events/
 959258/
END:VEVENT
BEGIN:VEVENT
SUMMARY:Coffee Morning
DTSTART;TZID=Europe/London:20260617T100000
DTEND;TZID=Europe/London:20260617T113000
DTSTAMP:20260421T082820Z
UID:9592582026-06-17 10:00:00+01:00achurchnearyou
CATEGORIES:
DESCRIPTION:Coffee Morning with refreshments\, raffle and other items to b
 uy all in aid of church funds. All are welcome.
GEO:-0.74083;53.57663
LOCATION:St Oswald's Althorpe
URL:https://www.achurchnearyou.com/church/14745/service-and-events/events/
 959258/
END:VEVENT
BEGIN:VEVENT
SUMMARY:Coffee Morning
DTSTART;TZID=Europe/London:20260701T100000
DTEND;TZID=Europe/London:20260701T113000
DTSTAMP:20260421T082820Z
UID:9592582026-07-01 10:00:00+01:00achurchnearyou
CATEGORIES:
DESCRIPTION:Coffee Morning with refreshments\, raffle and other items to b
 uy all in aid of church funds. All are welcome.
GEO:-0.74083;53.57663
LOCATION:St Oswald's Althorpe
URL:https://www.achurchnearyou.com/church/14745/service-and-events/events/
 959258/
END:VEVENT
BEGIN:VEVENT
SUMMARY:Coffee Morning
DTSTART;TZID=Europe/London:20260715T100000
DTEND;TZID=Europe/London:20260715T113000
DTSTAMP:20260421T082820Z
UID:9592582026-07-15 10:00:00+01:00achurchnearyou
CATEGORIES:
DESCRIPTION:Coffee Morning with refreshments\, raffle and other items to b
 uy all in aid of church funds. All are welcome.
GEO:-0.74083;53.57663
LOCATION:St Oswald's Althorpe
URL:https://www.achurchnearyou.com/church/14745/service-and-events/events/
 959258/
END:VEVENT
BEGIN:VEVENT
SUMMARY:Coffee Morning
DTSTART;TZID=Europe/London:20260805T100000
DTEND;TZID=Europe/London:20260805T113000
DTSTAMP:20260421T082820Z
UID:9592582026-08-05 10:00:00+01:00achurchnearyou
CATEGORIES:
DESCRIPTION:Coffee Morning with refreshments\, raffle and other items to b
 uy all in aid of church funds. All are welcome.
GEO:-0.74083;53.57663
LOCATION:St Oswald's Althorpe
URL:https://www.achurchnearyou.com/church/14745/service-and-events/events/
 959258/
END:VEVENT
BEGIN:VEVENT
SUMMARY:Coffee Morning
DTSTART;TZID=Europe/London:20260819T100000
DTEND;TZID=Europe/London:20260819T113000
DTSTAMP:20260421T082820Z
UID:9592582026-08-19 10:00:00+01:00achurchnearyou
CATEGORIES:
DESCRIPTION:Coffee Morning with refreshments\, raffle and other items to b
 uy all in aid of church funds. All are welcome.
GEO:-0.74083;53.57663
LOCATION:St Oswald's Althorpe
URL:https://www.achurchnearyou.com/church/14745/service-and-events/events/
 959258/
END:VEVENT
BEGIN:VEVENT
SUMMARY:Coffee Morning
DTSTART;TZID=Europe/London:20260902T100000
DTEND;TZID=Europe/London:20260902T113000
DTSTAMP:20260421T082820Z
UID:9592582026-09-02 10:00:00+01:00achurchnearyou
CATEGORIES:
DESCRIPTION:Coffee Morning with refreshments\, raffle and other items to b
 uy all in aid of church funds. All are welcome.
GEO:-0.74083;53.57663
LOCATION:St Oswald's Althorpe
URL:https://www.achurchnearyou.com/church/14745/service-and-events/events/
 959258/
END:VEVENT
BEGIN:VEVENT
SUMMARY:Coffee Morning
DTSTART;TZID=Europe/London:20260916T100000
DTEND;TZID=Europe/London:20260916T113000
DTSTAMP:20260421T082820Z
UID:9592582026-09-16 10:00:00+01:00achurchnearyou
CATEGORIES:
DESCRIPTION:Coffee Morning with refreshments\, raffle and other items to b
 uy all in aid of church funds. All are welcome.
GEO:-0.74083;53.57663
LOCATION:St Oswald's Althorpe
URL:https://www.achurchnearyou.com/church/14745/service-and-events/events/
 959258/
END:VEVENT
BEGIN:VEVENT
SUMMARY:Coffee Morning
DTSTART;TZID=Europe/London:20261007T100000
DTEND;TZID=Europe/London:20261007T113000
DTSTAMP:20260421T082820Z
UID:9592582026-10-07 10:00:00+01:00achurchnearyou
CATEGORIES:
DESCRIPTION:Coffee Morning with refreshments\, raffle and other items to b
 uy all in aid of church funds. All are welcome.
GEO:-0.74083;53.57663
LOCATION:St Oswald's Althorpe
URL:https://www.achurchnearyou.com/church/14745/service-and-events/events/
 959258/
END:VEVENT
BEGIN:VEVENT
SUMMARY:Coffee Morning
DTSTART;TZID=Europe/London:20261021T100000
DTEND;TZID=Europe/London:20261021T113000
DTSTAMP:20260421T082820Z
UID:9592582026-10-21 10:00:00+01:00achurchnearyou
CATEGORIES:
DESCRIPTION:Coffee Morning with refreshments\, raffle and other items to b
 uy all in aid of church funds. All are welcome.
GEO:-0.74083;53.57663
LOCATION:St Oswald's Althorpe
URL:https://www.achurchnearyou.com/church/14745/service-and-events/events/
 959258/
END:VEVENT
BEGIN:VEVENT
SUMMARY:Coffee Morning
DTSTART;TZID=Europe/London:20261104T100000
DTEND;TZID=Europe/London:20261104T113000
DTSTAMP:20260421T082820Z
UID:9592582026-11-04 10:00:00+00:00achurchnearyou
CATEGORIES:
DESCRIPTION:Coffee Morning with refreshments\, raffle and other items to b
 uy all in aid of church funds. All are welcome.
GEO:-0.74083;53.57663
LOCATION:St Oswald's Althorpe
URL:https://www.achurchnearyou.com/church/14745/service-and-events/events/
 959258/
END:VEVENT
BEGIN:VEVENT
SUMMARY:Coffee Morning
DTSTART;TZID=Europe/London:20261118T100000
DTEND;TZID=Europe/London:20261118T113000
DTSTAMP:20260421T082820Z
UID:9592582026-11-18 10:00:00+00:00achurchnearyou
CATEGORIES:
DESCRIPTION:Coffee Morning with refreshments\, raffle and other items to b
 uy all in aid of church funds. All are welcome.
GEO:-0.74083;53.57663
LOCATION:St Oswald's Althorpe
URL:https://www.achurchnearyou.com/church/14745/service-and-events/events/
 959258/
END:VEVENT
BEGIN:VEVENT
SUMMARY:Coffee Morning
DTSTART;TZID=Europe/London:20261202T100000
DTEND;TZID=Europe/London:20261202T113000
DTSTAMP:20260421T082820Z
UID:9592582026-12-02 10:00:00+00:00achurchnearyou
CATEGORIES:
DESCRIPTION:Coffee Morning with refreshments\, raffle and other items to b
 uy all in aid of church funds. All are welcome.
GEO:-0.74083;53.57663
LOCATION:St Oswald's Althorpe
URL:https://www.achurchnearyou.com/church/14745/service-and-events/events/
 959258/
END:VEVENT
BEGIN:VEVENT
SUMMARY:Coffee Morning
DTSTART;TZID=Europe/London:20261216T100000
DTEND;TZID=Europe/London:20261216T113000
DTSTAMP:20260421T082820Z
UID:9592582026-12-16 10:00:00+00:00achurchnearyou
CATEGORIES:
DESCRIPTION:Coffee Morning with refreshments\, raffle and other items to b
 uy all in aid of church funds. All are welcome.
GEO:-0.74083;53.57663
LOCATION:St Oswald's Althorpe
URL:https://www.achurchnearyou.com/church/14745/service-and-events/events/
 959258/
END:VEVENT
BEGIN:VEVENT
SUMMARY:Coffee Morning
DTSTART;TZID=Europe/London:20270106T100000
DTEND;TZID=Europe/London:20270106T113000
DTSTAMP:20260421T082820Z
UID:9592582027-01-06 10:00:00+00:00achurchnearyou
CATEGORIES:
DESCRIPTION:Coffee Morning with refreshments\, raffle and other items to b
 uy all in aid of church funds. All are welcome.
GEO:-0.74083;53.57663
LOCATION:St Oswald's Althorpe
URL:https://www.achurchnearyou.com/church/14745/service-and-events/events/
 959258/
END:VEVENT
BEGIN:VEVENT
SUMMARY:Coffee Morning
DTSTART;TZID=Europe/London:20270120T100000
DTEND;TZID=Europe/London:20270120T113000
DTSTAMP:20260421T082820Z
UID:9592582027-01-20 10:00:00+00:00achurchnearyou
CATEGORIES:
DESCRIPTION:Coffee Morning with refreshments\, raffle and other items to b
 uy all in aid of church funds. All are welcome.
GEO:-0.74083;53.57663
LOCATION:St Oswald's Althorpe
URL:https://www.achurchnearyou.com/church/14745/service-and-events/events/
 959258/
END:VEVENT
BEGIN:VEVENT
SUMMARY:Coffee Morning
DTSTART;TZID=Europe/London:20270203T100000
DTEND;TZID=Europe/London:20270203T113000
DTSTAMP:20260421T082820Z
UID:9592582027-02-03 10:00:00+00:00achurchnearyou
CATEGORIES:
DESCRIPTION:Coffee Morning with refreshments\, raffle and other items to b
 uy all in aid of church funds. All are welcome.
GEO:-0.74083;53.57663
LOCATION:St Oswald's Althorpe
URL:https://www.achurchnearyou.com/church/14745/service-and-events/events/
 959258/
END:VEVENT
BEGIN:VEVENT
SUMMARY:Coffee Morning
DTSTART;TZID=Europe/London:20270217T100000
DTEND;TZID=Europe/London:20270217T113000
DTSTAMP:20260421T082820Z
UID:9592582027-02-17 10:00:00+00:00achurchnearyou
CATEGORIES:
DESCRIPTION:Coffee Morning with refreshments\, raffle and other items to b
 uy all in aid of church funds. All are welcome.
GEO:-0.74083;53.57663
LOCATION:St Oswald's Althorpe
URL:https://www.achurchnearyou.com/church/14745/service-and-events/events/
 959258/
END:VEVENT
BEGIN:VEVENT
SUMMARY:Coffee Morning
DTSTART;TZID=Europe/London:20270303T100000
DTEND;TZID=Europe/London:20270303T113000
DTSTAMP:20260421T082820Z
UID:9592582027-03-03 10:00:00+00:00achurchnearyou
CATEGORIES:
DESCRIPTION:Coffee Morning with refreshments\, raffle and other items to b
 uy all in aid of church funds. All are welcome.
GEO:-0.74083;53.57663
LOCATION:St Oswald's Althorpe
URL:https://www.achurchnearyou.com/church/14745/service-and-events/events/
 959258/
END:VEVENT
BEGIN:VEVENT
SUMMARY:Coffee Morning
DTSTART;TZID=Europe/London:20270317T100000
DTEND;TZID=Europe/London:20270317T113000
DTSTAMP:20260421T082820Z
UID:9592582027-03-17 10:00:00+00:00achurchnearyou
CATEGORIES:
DESCRIPTION:Coffee Morning with refreshments\, raffle and other items to b
 uy all in aid of church funds. All are welcome.
GEO:-0.74083;53.57663
LOCATION:St Oswald's Althorpe
URL:https://www.achurchnearyou.com/church/14745/service-and-events/events/
 959258/
END:VEVENT
BEGIN:VEVENT
SUMMARY:Coffee Morning
DTSTART;TZID=Europe/London:20270407T100000
DTEND;TZID=Europe/London:20270407T113000
DTSTAMP:20260421T082820Z
UID:9592582027-04-07 10:00:00+01:00achurchnearyou
CATEGORIES:
DESCRIPTION:Coffee Morning with refreshments\, raffle and other items to b
 uy all in aid of church funds. All are welcome.
GEO:-0.74083;53.57663
LOCATION:St Oswald's Althorpe
URL:https://www.achurchnearyou.com/church/14745/service-and-events/events/
 959258/
END:VEVENT
BEGIN:VEVENT
SUMMARY:Coffee Morning
DTSTART;TZID=Europe/London:20270421T100000
DTEND;TZID=Europe/London:20270421T113000
DTSTAMP:20260421T082820Z
UID:9592582027-04-21 10:00:00+01:00achurchnearyou
CATEGORIES:
DESCRIPTION:Coffee Morning with refreshments\, raffle and other items to b
 uy all in aid of church funds. All are welcome.
GEO:-0.74083;53.57663
LOCATION:St Oswald's Althorpe
URL:https://www.achurchnearyou.com/church/14745/service-and-events/events/
 959258/
END:VEVENT
END:VCALENDAR
