BEGIN:VCALENDAR
VERSION:2.0
PRODID:-//achurchnearyou.com//eventfeed//EN
CALSCALE:GREGORIAN
METHOD:PUBLISH
X-WR-TIMEZONE:UTC
BEGIN:VEVENT
SUMMARY:Set our hearts on fire - Advent Course
DTSTART;TZID=Europe/London:20251205T103000
DTEND;TZID=Europe/London:20251205T120000
DTSTAMP:20260423T170544Z
UID:12613022025-12-05 10:30:00+00:00achurchnearyou
CATEGORIES:
DESCRIPTION:Jin us on Fridays throughout Advent from 10.30 - 12 noon at th
 e All Saints Centre Belton for the  Lincoln Diocese Advent Course
LOCATION:All Saints Centre Belton
URL:https://www.achurchnearyou.com/church/14752/service-and-events/events/
 1261302/
END:VEVENT
BEGIN:VEVENT
SUMMARY:Set our hearts on fire - Advent Course
DTSTART;TZID=Europe/London:20251212T103000
DTEND;TZID=Europe/London:20251212T120000
DTSTAMP:20260423T170544Z
UID:12613022025-12-12 10:30:00+00:00achurchnearyou
CATEGORIES:
DESCRIPTION:Jin us on Fridays throughout Advent from 10.30 - 12 noon at th
 e All Saints Centre Belton for the  Lincoln Diocese Advent Course
LOCATION:All Saints Centre Belton
URL:https://www.achurchnearyou.com/church/14752/service-and-events/events/
 1261302/
END:VEVENT
BEGIN:VEVENT
SUMMARY:Set our hearts on fire - Advent Course
DTSTART;TZID=Europe/London:20251219T103000
DTEND;TZID=Europe/London:20251219T120000
DTSTAMP:20260423T170544Z
UID:12613022025-12-19 10:30:00+00:00achurchnearyou
CATEGORIES:
DESCRIPTION:Jin us on Fridays throughout Advent from 10.30 - 12 noon at th
 e All Saints Centre Belton for the  Lincoln Diocese Advent Course
LOCATION:All Saints Centre Belton
URL:https://www.achurchnearyou.com/church/14752/service-and-events/events/
 1261302/
END:VEVENT
END:VCALENDAR
