BEGIN:VCALENDAR
VERSION:2.0
PRODID:-//achurchnearyou.com//eventfeed//EN
CALSCALE:GREGORIAN
METHOD:PUBLISH
X-WR-TIMEZONE:UTC
BEGIN:VEVENT
SUMMARY:Harvest Communion Sunday 5th October 2025
DTSTART:20251005T093000Z
DTEND:20251005T103000Z
DTSTAMP:20260424T065647Z
UID:12277082025-10-05 09:30:00+00:00achurchnearyou
CATEGORIES:
DESCRIPTION:Trinity 16
GEO:-0.55961;53.25968
LOCATION:St Vincent's Burton by Lincoln
URL:https://www.achurchnearyou.com/church/14788/service-and-events/events/
 1227708/
END:VEVENT
END:VCALENDAR
