BEGIN:VCALENDAR
VERSION:2.0
PRODID:-//achurchnearyou.com//eventfeed//EN
CALSCALE:GREGORIAN
METHOD:PUBLISH
X-WR-TIMEZONE:UTC
BEGIN:VEVENT
SUMMARY:Bring & Share Meal and Worship
DTSTART:20260402T170000Z
DTEND:20260402T193000Z
DTSTAMP:20260423T174428Z
UID:13056552026-04-02 17:00:00+00:00achurchnearyou
CATEGORIES:
DESCRIPTION:Bring & Share meal and worship for everyone (accessible for ch
 ildren and adults!)
GEO:-0.666563;51.600817
LOCATION:St Thomas\, Holtspur
URL:https://www.achurchnearyou.com/church/148/service-and-events/events/13
 05655/
END:VEVENT
END:VCALENDAR
