BEGIN:VCALENDAR
VERSION:2.0
PRODID:-//achurchnearyou.com//eventfeed//EN
CALSCALE:GREGORIAN
METHOD:PUBLISH
X-WR-TIMEZONE:UTC
BEGIN:VEVENT
SUMMARY:Coffee Morning
DTSTART;TZID=Europe/London:20250215T103000
DTEND;TZID=Europe/London:20250215T120000
DTSTAMP:20260422T194908Z
UID:11537132025-02-15 10:30:00+00:00achurchnearyou
CATEGORIES:
DESCRIPTION:Every 3rd Saturday of the Month
GEO:-0.13828;53.51213
LOCATION:St Helen's\, Barnoldby le Beck
URL:https://www.achurchnearyou.com/church/15003/service-and-events/events/
 1153713/
END:VEVENT
BEGIN:VEVENT
SUMMARY:Coffee Morning
DTSTART;TZID=Europe/London:20250315T103000
DTEND;TZID=Europe/London:20250315T120000
DTSTAMP:20260422T194908Z
UID:11537132025-03-15 10:30:00+00:00achurchnearyou
CATEGORIES:
DESCRIPTION:Every 3rd Saturday of the Month
GEO:-0.13828;53.51213
LOCATION:St Helen's\, Barnoldby le Beck
URL:https://www.achurchnearyou.com/church/15003/service-and-events/events/
 1153713/
END:VEVENT
BEGIN:VEVENT
SUMMARY:Coffee Morning
DTSTART;TZID=Europe/London:20250419T103000
DTEND;TZID=Europe/London:20250419T120000
DTSTAMP:20260422T194908Z
UID:11537132025-04-19 10:30:00+01:00achurchnearyou
CATEGORIES:
DESCRIPTION:Every 3rd Saturday of the Month
GEO:-0.13828;53.51213
LOCATION:St Helen's\, Barnoldby le Beck
URL:https://www.achurchnearyou.com/church/15003/service-and-events/events/
 1153713/
END:VEVENT
BEGIN:VEVENT
SUMMARY:Coffee Morning
DTSTART;TZID=Europe/London:20250517T103000
DTEND;TZID=Europe/London:20250517T120000
DTSTAMP:20260422T194908Z
UID:11537132025-05-17 10:30:00+01:00achurchnearyou
CATEGORIES:
DESCRIPTION:Every 3rd Saturday of the Month
GEO:-0.13828;53.51213
LOCATION:St Helen's\, Barnoldby le Beck
URL:https://www.achurchnearyou.com/church/15003/service-and-events/events/
 1153713/
END:VEVENT
BEGIN:VEVENT
SUMMARY:Coffee Morning
DTSTART;TZID=Europe/London:20250621T103000
DTEND;TZID=Europe/London:20250621T120000
DTSTAMP:20260422T194908Z
UID:11537132025-06-21 10:30:00+01:00achurchnearyou
CATEGORIES:
DESCRIPTION:Every 3rd Saturday of the Month
GEO:-0.13828;53.51213
LOCATION:St Helen's\, Barnoldby le Beck
URL:https://www.achurchnearyou.com/church/15003/service-and-events/events/
 1153713/
END:VEVENT
BEGIN:VEVENT
SUMMARY:Coffee Morning
DTSTART;TZID=Europe/London:20250719T103000
DTEND;TZID=Europe/London:20250719T120000
DTSTAMP:20260422T194908Z
UID:11537132025-07-19 10:30:00+01:00achurchnearyou
CATEGORIES:
DESCRIPTION:Every 3rd Saturday of the Month
GEO:-0.13828;53.51213
LOCATION:St Helen's\, Barnoldby le Beck
URL:https://www.achurchnearyou.com/church/15003/service-and-events/events/
 1153713/
END:VEVENT
BEGIN:VEVENT
SUMMARY:Coffee Morning
DTSTART;TZID=Europe/London:20250816T103000
DTEND;TZID=Europe/London:20250816T120000
DTSTAMP:20260422T194908Z
UID:11537132025-08-16 10:30:00+01:00achurchnearyou
CATEGORIES:
DESCRIPTION:Every 3rd Saturday of the Month
GEO:-0.13828;53.51213
LOCATION:St Helen's\, Barnoldby le Beck
URL:https://www.achurchnearyou.com/church/15003/service-and-events/events/
 1153713/
END:VEVENT
BEGIN:VEVENT
SUMMARY:Coffee Morning
DTSTART;TZID=Europe/London:20250920T103000
DTEND;TZID=Europe/London:20250920T120000
DTSTAMP:20260422T194908Z
UID:11537132025-09-20 10:30:00+01:00achurchnearyou
CATEGORIES:
DESCRIPTION:Every 3rd Saturday of the Month
GEO:-0.13828;53.51213
LOCATION:St Helen's\, Barnoldby le Beck
URL:https://www.achurchnearyou.com/church/15003/service-and-events/events/
 1153713/
END:VEVENT
BEGIN:VEVENT
SUMMARY:Coffee Morning
DTSTART;TZID=Europe/London:20251018T103000
DTEND;TZID=Europe/London:20251018T120000
DTSTAMP:20260422T194908Z
UID:11537132025-10-18 10:30:00+01:00achurchnearyou
CATEGORIES:
DESCRIPTION:Every 3rd Saturday of the Month
GEO:-0.13828;53.51213
LOCATION:St Helen's\, Barnoldby le Beck
URL:https://www.achurchnearyou.com/church/15003/service-and-events/events/
 1153713/
END:VEVENT
BEGIN:VEVENT
SUMMARY:Coffee Morning
DTSTART;TZID=Europe/London:20251115T103000
DTEND;TZID=Europe/London:20251115T120000
DTSTAMP:20260422T194908Z
UID:11537132025-11-15 10:30:00+00:00achurchnearyou
CATEGORIES:
DESCRIPTION:Every 3rd Saturday of the Month
GEO:-0.13828;53.51213
LOCATION:St Helen's\, Barnoldby le Beck
URL:https://www.achurchnearyou.com/church/15003/service-and-events/events/
 1153713/
END:VEVENT
END:VCALENDAR
