BEGIN:VCALENDAR
VERSION:2.0
PRODID:-//achurchnearyou.com//eventfeed//EN
CALSCALE:GREGORIAN
METHOD:PUBLISH
X-WR-TIMEZONE:UTC
BEGIN:VEVENT
SUMMARY:Morning Worship
DTSTART:20250126T110000Z
DTEND:20250126T120000Z
DTSTAMP:20260422T123846Z
UID:11513182025-01-26 11:00:00+00:00achurchnearyou
CATEGORIES:
DESCRIPTION:service of Bible readings hymns and prayers for about one hour
 .\neveryone is welcome\nrefreshments after the service in the attached hal
 l
GEO:-0.16851;53.57355
LOCATION:St Peter & St Paul\, Healing.
URL:https://www.achurchnearyou.com/church/15010/service-and-events/events/
 1151318/
END:VEVENT
END:VCALENDAR
