BEGIN:VCALENDAR
VERSION:2.0
PRODID:-//achurchnearyou.com//eventfeed//EN
CALSCALE:GREGORIAN
METHOD:PUBLISH
X-WR-TIMEZONE:UTC
BEGIN:VEVENT
SUMMARY:Holy Communion
DTSTART;TZID=Europe/London:20230903T110000
DTEND;TZID=Europe/London:20230903T120000
DTSTAMP:20260421T012226Z
UID:9622472023-09-03 11:00:00+01:00achurchnearyou
CATEGORIES:
DESCRIPTION:Service of Holy Communion for about 1 hour followed by Refresh
 ments and fellowship.\nEveryone is welcome\nThis is a change to the previo
 us pattern of worship.
GEO:-0.16851;53.57355
LOCATION:St Peter & St Paul\, Healing.
URL:https://www.achurchnearyou.com/church/15010/service-and-events/events/
 962247/
END:VEVENT
BEGIN:VEVENT
SUMMARY:Holy Communion
DTSTART;TZID=Europe/London:20231001T110000
DTEND;TZID=Europe/London:20231001T120000
DTSTAMP:20260421T012226Z
UID:9622472023-10-01 11:00:00+01:00achurchnearyou
CATEGORIES:
DESCRIPTION:Service of Holy Communion for about 1 hour followed by Refresh
 ments and fellowship.\nEveryone is welcome\nThis is a change to the previo
 us pattern of worship.
GEO:-0.16851;53.57355
LOCATION:St Peter & St Paul\, Healing.
URL:https://www.achurchnearyou.com/church/15010/service-and-events/events/
 962247/
END:VEVENT
BEGIN:VEVENT
SUMMARY:Holy Communion
DTSTART;TZID=Europe/London:20231105T110000
DTEND;TZID=Europe/London:20231105T120000
DTSTAMP:20260421T012226Z
UID:9622472023-11-05 11:00:00+00:00achurchnearyou
CATEGORIES:
DESCRIPTION:Service of Holy Communion for about 1 hour followed by Refresh
 ments and fellowship.\nEveryone is welcome\nThis is a change to the previo
 us pattern of worship.
GEO:-0.16851;53.57355
LOCATION:St Peter & St Paul\, Healing.
URL:https://www.achurchnearyou.com/church/15010/service-and-events/events/
 962247/
END:VEVENT
BEGIN:VEVENT
SUMMARY:Holy Communion
DTSTART;TZID=Europe/London:20231203T110000
DTEND;TZID=Europe/London:20231203T120000
DTSTAMP:20260421T012226Z
UID:9622472023-12-03 11:00:00+00:00achurchnearyou
CATEGORIES:
DESCRIPTION:Service of Holy Communion for about 1 hour followed by Refresh
 ments and fellowship.\nEveryone is welcome\nThis is a change to the previo
 us pattern of worship.
GEO:-0.16851;53.57355
LOCATION:St Peter & St Paul\, Healing.
URL:https://www.achurchnearyou.com/church/15010/service-and-events/events/
 962247/
END:VEVENT
BEGIN:VEVENT
SUMMARY:Holy Communion
DTSTART;TZID=Europe/London:20240107T110000
DTEND;TZID=Europe/London:20240107T120000
DTSTAMP:20260421T012226Z
UID:9622472024-01-07 11:00:00+00:00achurchnearyou
CATEGORIES:
DESCRIPTION:Service of Holy Communion for about 1 hour followed by Refresh
 ments and fellowship.\nEveryone is welcome\nThis is a change to the previo
 us pattern of worship.
GEO:-0.16851;53.57355
LOCATION:St Peter & St Paul\, Healing.
URL:https://www.achurchnearyou.com/church/15010/service-and-events/events/
 962247/
END:VEVENT
BEGIN:VEVENT
SUMMARY:Holy Communion
DTSTART;TZID=Europe/London:20240204T110000
DTEND;TZID=Europe/London:20240204T120000
DTSTAMP:20260421T012226Z
UID:9622472024-02-04 11:00:00+00:00achurchnearyou
CATEGORIES:
DESCRIPTION:Service of Holy Communion for about 1 hour followed by Refresh
 ments and fellowship.\nEveryone is welcome\nThis is a change to the previo
 us pattern of worship.
GEO:-0.16851;53.57355
LOCATION:St Peter & St Paul\, Healing.
URL:https://www.achurchnearyou.com/church/15010/service-and-events/events/
 962247/
END:VEVENT
BEGIN:VEVENT
SUMMARY:Holy Communion
DTSTART;TZID=Europe/London:20240303T110000
DTEND;TZID=Europe/London:20240303T120000
DTSTAMP:20260421T012226Z
UID:9622472024-03-03 11:00:00+00:00achurchnearyou
CATEGORIES:
DESCRIPTION:Service of Holy Communion for about 1 hour followed by Refresh
 ments and fellowship.\nEveryone is welcome\nThis is a change to the previo
 us pattern of worship.
GEO:-0.16851;53.57355
LOCATION:St Peter & St Paul\, Healing.
URL:https://www.achurchnearyou.com/church/15010/service-and-events/events/
 962247/
END:VEVENT
BEGIN:VEVENT
SUMMARY:Holy Communion
DTSTART;TZID=Europe/London:20240407T110000
DTEND;TZID=Europe/London:20240407T120000
DTSTAMP:20260421T012226Z
UID:9622472024-04-07 11:00:00+01:00achurchnearyou
CATEGORIES:
DESCRIPTION:Service of Holy Communion for about 1 hour followed by Refresh
 ments and fellowship.\nEveryone is welcome\nThis is a change to the previo
 us pattern of worship.
GEO:-0.16851;53.57355
LOCATION:St Peter & St Paul\, Healing.
URL:https://www.achurchnearyou.com/church/15010/service-and-events/events/
 962247/
END:VEVENT
BEGIN:VEVENT
SUMMARY:Holy Communion
DTSTART;TZID=Europe/London:20240505T110000
DTEND;TZID=Europe/London:20240505T120000
DTSTAMP:20260421T012226Z
UID:9622472024-05-05 11:00:00+01:00achurchnearyou
CATEGORIES:
DESCRIPTION:Service of Holy Communion for about 1 hour followed by Refresh
 ments and fellowship.\nEveryone is welcome\nThis is a change to the previo
 us pattern of worship.
GEO:-0.16851;53.57355
LOCATION:St Peter & St Paul\, Healing.
URL:https://www.achurchnearyou.com/church/15010/service-and-events/events/
 962247/
END:VEVENT
BEGIN:VEVENT
SUMMARY:Holy Communion
DTSTART;TZID=Europe/London:20240602T110000
DTEND;TZID=Europe/London:20240602T120000
DTSTAMP:20260421T012226Z
UID:9622472024-06-02 11:00:00+01:00achurchnearyou
CATEGORIES:
DESCRIPTION:Service of Holy Communion for about 1 hour followed by Refresh
 ments and fellowship.\nEveryone is welcome\nThis is a change to the previo
 us pattern of worship.
GEO:-0.16851;53.57355
LOCATION:St Peter & St Paul\, Healing.
URL:https://www.achurchnearyou.com/church/15010/service-and-events/events/
 962247/
END:VEVENT
BEGIN:VEVENT
SUMMARY:Holy Communion
DTSTART;TZID=Europe/London:20240707T110000
DTEND;TZID=Europe/London:20240707T120000
DTSTAMP:20260421T012226Z
UID:9622472024-07-07 11:00:00+01:00achurchnearyou
CATEGORIES:
DESCRIPTION:Service of Holy Communion for about 1 hour followed by Refresh
 ments and fellowship.\nEveryone is welcome\nThis is a change to the previo
 us pattern of worship.
GEO:-0.16851;53.57355
LOCATION:St Peter & St Paul\, Healing.
URL:https://www.achurchnearyou.com/church/15010/service-and-events/events/
 962247/
END:VEVENT
BEGIN:VEVENT
SUMMARY:Holy Communion
DTSTART;TZID=Europe/London:20240804T110000
DTEND;TZID=Europe/London:20240804T120000
DTSTAMP:20260421T012226Z
UID:9622472024-08-04 11:00:00+01:00achurchnearyou
CATEGORIES:
DESCRIPTION:Service of Holy Communion for about 1 hour followed by Refresh
 ments and fellowship.\nEveryone is welcome\nThis is a change to the previo
 us pattern of worship.
GEO:-0.16851;53.57355
LOCATION:St Peter & St Paul\, Healing.
URL:https://www.achurchnearyou.com/church/15010/service-and-events/events/
 962247/
END:VEVENT
BEGIN:VEVENT
SUMMARY:Holy Communion
DTSTART;TZID=Europe/London:20240901T110000
DTEND;TZID=Europe/London:20240901T120000
DTSTAMP:20260421T012226Z
UID:9622472024-09-01 11:00:00+01:00achurchnearyou
CATEGORIES:
DESCRIPTION:Service of Holy Communion for about 1 hour followed by Refresh
 ments and fellowship.\nEveryone is welcome\nThis is a change to the previo
 us pattern of worship.
GEO:-0.16851;53.57355
LOCATION:St Peter & St Paul\, Healing.
URL:https://www.achurchnearyou.com/church/15010/service-and-events/events/
 962247/
END:VEVENT
BEGIN:VEVENT
SUMMARY:Holy Communion
DTSTART;TZID=Europe/London:20241006T110000
DTEND;TZID=Europe/London:20241006T120000
DTSTAMP:20260421T012226Z
UID:9622472024-10-06 11:00:00+01:00achurchnearyou
CATEGORIES:
DESCRIPTION:Service of Holy Communion for about 1 hour followed by Refresh
 ments and fellowship.\nEveryone is welcome\nThis is a change to the previo
 us pattern of worship.
GEO:-0.16851;53.57355
LOCATION:St Peter & St Paul\, Healing.
URL:https://www.achurchnearyou.com/church/15010/service-and-events/events/
 962247/
END:VEVENT
BEGIN:VEVENT
SUMMARY:Holy Communion
DTSTART;TZID=Europe/London:20241103T110000
DTEND;TZID=Europe/London:20241103T120000
DTSTAMP:20260421T012226Z
UID:9622472024-11-03 11:00:00+00:00achurchnearyou
CATEGORIES:
DESCRIPTION:Service of Holy Communion for about 1 hour followed by Refresh
 ments and fellowship.\nEveryone is welcome\nThis is a change to the previo
 us pattern of worship.
GEO:-0.16851;53.57355
LOCATION:St Peter & St Paul\, Healing.
URL:https://www.achurchnearyou.com/church/15010/service-and-events/events/
 962247/
END:VEVENT
BEGIN:VEVENT
SUMMARY:Holy Communion
DTSTART;TZID=Europe/London:20241201T110000
DTEND;TZID=Europe/London:20241201T120000
DTSTAMP:20260421T012226Z
UID:9622472024-12-01 11:00:00+00:00achurchnearyou
CATEGORIES:
DESCRIPTION:Service of Holy Communion for about 1 hour followed by Refresh
 ments and fellowship.\nEveryone is welcome\nThis is a change to the previo
 us pattern of worship.
GEO:-0.16851;53.57355
LOCATION:St Peter & St Paul\, Healing.
URL:https://www.achurchnearyou.com/church/15010/service-and-events/events/
 962247/
END:VEVENT
BEGIN:VEVENT
SUMMARY:Holy Communion
DTSTART;TZID=Europe/London:20250105T110000
DTEND;TZID=Europe/London:20250105T120000
DTSTAMP:20260421T012226Z
UID:9622472025-01-05 11:00:00+00:00achurchnearyou
CATEGORIES:
DESCRIPTION:Service of Holy Communion for about 1 hour followed by Refresh
 ments and fellowship.\nEveryone is welcome\nThis is a change to the previo
 us pattern of worship.
GEO:-0.16851;53.57355
LOCATION:St Peter & St Paul\, Healing.
URL:https://www.achurchnearyou.com/church/15010/service-and-events/events/
 962247/
END:VEVENT
BEGIN:VEVENT
SUMMARY:Holy Communion
DTSTART;TZID=Europe/London:20250202T110000
DTEND;TZID=Europe/London:20250202T120000
DTSTAMP:20260421T012226Z
UID:9622472025-02-02 11:00:00+00:00achurchnearyou
CATEGORIES:
DESCRIPTION:Service of Holy Communion for about 1 hour followed by Refresh
 ments and fellowship.\nEveryone is welcome\nThis is a change to the previo
 us pattern of worship.
GEO:-0.16851;53.57355
LOCATION:St Peter & St Paul\, Healing.
URL:https://www.achurchnearyou.com/church/15010/service-and-events/events/
 962247/
END:VEVENT
BEGIN:VEVENT
SUMMARY:Holy Communion
DTSTART;TZID=Europe/London:20250302T110000
DTEND;TZID=Europe/London:20250302T120000
DTSTAMP:20260421T012226Z
UID:9622472025-03-02 11:00:00+00:00achurchnearyou
CATEGORIES:
DESCRIPTION:Service of Holy Communion for about 1 hour followed by Refresh
 ments and fellowship.\nEveryone is welcome\nThis is a change to the previo
 us pattern of worship.
GEO:-0.16851;53.57355
LOCATION:St Peter & St Paul\, Healing.
URL:https://www.achurchnearyou.com/church/15010/service-and-events/events/
 962247/
END:VEVENT
BEGIN:VEVENT
SUMMARY:Holy Communion
DTSTART;TZID=Europe/London:20250406T110000
DTEND;TZID=Europe/London:20250406T120000
DTSTAMP:20260421T012226Z
UID:9622472025-04-06 11:00:00+01:00achurchnearyou
CATEGORIES:
DESCRIPTION:Service of Holy Communion for about 1 hour followed by Refresh
 ments and fellowship.\nEveryone is welcome\nThis is a change to the previo
 us pattern of worship.
GEO:-0.16851;53.57355
LOCATION:St Peter & St Paul\, Healing.
URL:https://www.achurchnearyou.com/church/15010/service-and-events/events/
 962247/
END:VEVENT
BEGIN:VEVENT
SUMMARY:Holy Communion
DTSTART;TZID=Europe/London:20250504T110000
DTEND;TZID=Europe/London:20250504T120000
DTSTAMP:20260421T012226Z
UID:9622472025-05-04 11:00:00+01:00achurchnearyou
CATEGORIES:
DESCRIPTION:Service of Holy Communion for about 1 hour followed by Refresh
 ments and fellowship.\nEveryone is welcome\nThis is a change to the previo
 us pattern of worship.
GEO:-0.16851;53.57355
LOCATION:St Peter & St Paul\, Healing.
URL:https://www.achurchnearyou.com/church/15010/service-and-events/events/
 962247/
END:VEVENT
BEGIN:VEVENT
SUMMARY:Holy Communion
DTSTART;TZID=Europe/London:20250601T110000
DTEND;TZID=Europe/London:20250601T120000
DTSTAMP:20260421T012226Z
UID:9622472025-06-01 11:00:00+01:00achurchnearyou
CATEGORIES:
DESCRIPTION:Service of Holy Communion for about 1 hour followed by Refresh
 ments and fellowship.\nEveryone is welcome\nThis is a change to the previo
 us pattern of worship.
GEO:-0.16851;53.57355
LOCATION:St Peter & St Paul\, Healing.
URL:https://www.achurchnearyou.com/church/15010/service-and-events/events/
 962247/
END:VEVENT
BEGIN:VEVENT
SUMMARY:Holy Communion
DTSTART;TZID=Europe/London:20250706T110000
DTEND;TZID=Europe/London:20250706T120000
DTSTAMP:20260421T012226Z
UID:9622472025-07-06 11:00:00+01:00achurchnearyou
CATEGORIES:
DESCRIPTION:Service of Holy Communion for about 1 hour followed by Refresh
 ments and fellowship.\nEveryone is welcome\nThis is a change to the previo
 us pattern of worship.
GEO:-0.16851;53.57355
LOCATION:St Peter & St Paul\, Healing.
URL:https://www.achurchnearyou.com/church/15010/service-and-events/events/
 962247/
END:VEVENT
BEGIN:VEVENT
SUMMARY:Holy Communion
DTSTART;TZID=Europe/London:20250803T110000
DTEND;TZID=Europe/London:20250803T120000
DTSTAMP:20260421T012226Z
UID:9622472025-08-03 11:00:00+01:00achurchnearyou
CATEGORIES:
DESCRIPTION:Service of Holy Communion for about 1 hour followed by Refresh
 ments and fellowship.\nEveryone is welcome\nThis is a change to the previo
 us pattern of worship.
GEO:-0.16851;53.57355
LOCATION:St Peter & St Paul\, Healing.
URL:https://www.achurchnearyou.com/church/15010/service-and-events/events/
 962247/
END:VEVENT
BEGIN:VEVENT
SUMMARY:Holy Communion
DTSTART;TZID=Europe/London:20250907T110000
DTEND;TZID=Europe/London:20250907T120000
DTSTAMP:20260421T012226Z
UID:9622472025-09-07 11:00:00+01:00achurchnearyou
CATEGORIES:
DESCRIPTION:Service of Holy Communion for about 1 hour followed by Refresh
 ments and fellowship.\nEveryone is welcome\nThis is a change to the previo
 us pattern of worship.
GEO:-0.16851;53.57355
LOCATION:St Peter & St Paul\, Healing.
URL:https://www.achurchnearyou.com/church/15010/service-and-events/events/
 962247/
END:VEVENT
BEGIN:VEVENT
SUMMARY:Holy Communion
DTSTART;TZID=Europe/London:20251005T110000
DTEND;TZID=Europe/London:20251005T120000
DTSTAMP:20260421T012226Z
UID:9622472025-10-05 11:00:00+01:00achurchnearyou
CATEGORIES:
DESCRIPTION:Service of Holy Communion for about 1 hour followed by Refresh
 ments and fellowship.\nEveryone is welcome\nThis is a change to the previo
 us pattern of worship.
GEO:-0.16851;53.57355
LOCATION:St Peter & St Paul\, Healing.
URL:https://www.achurchnearyou.com/church/15010/service-and-events/events/
 962247/
END:VEVENT
BEGIN:VEVENT
SUMMARY:Holy Communion
DTSTART;TZID=Europe/London:20251102T110000
DTEND;TZID=Europe/London:20251102T120000
DTSTAMP:20260421T012226Z
UID:9622472025-11-02 11:00:00+00:00achurchnearyou
CATEGORIES:
DESCRIPTION:Service of Holy Communion for about 1 hour followed by Refresh
 ments and fellowship.\nEveryone is welcome\nThis is a change to the previo
 us pattern of worship.
GEO:-0.16851;53.57355
LOCATION:St Peter & St Paul\, Healing.
URL:https://www.achurchnearyou.com/church/15010/service-and-events/events/
 962247/
END:VEVENT
BEGIN:VEVENT
SUMMARY:Holy Communion
DTSTART;TZID=Europe/London:20251207T110000
DTEND;TZID=Europe/London:20251207T120000
DTSTAMP:20260421T012226Z
UID:9622472025-12-07 11:00:00+00:00achurchnearyou
CATEGORIES:
DESCRIPTION:Service of Holy Communion for about 1 hour followed by Refresh
 ments and fellowship.\nEveryone is welcome\nThis is a change to the previo
 us pattern of worship.
GEO:-0.16851;53.57355
LOCATION:St Peter & St Paul\, Healing.
URL:https://www.achurchnearyou.com/church/15010/service-and-events/events/
 962247/
END:VEVENT
BEGIN:VEVENT
SUMMARY:Holy Communion
DTSTART;TZID=Europe/London:20260104T110000
DTEND;TZID=Europe/London:20260104T120000
DTSTAMP:20260421T012226Z
UID:9622472026-01-04 11:00:00+00:00achurchnearyou
CATEGORIES:
DESCRIPTION:Service of Holy Communion for about 1 hour followed by Refresh
 ments and fellowship.\nEveryone is welcome\nThis is a change to the previo
 us pattern of worship.
GEO:-0.16851;53.57355
LOCATION:St Peter & St Paul\, Healing.
URL:https://www.achurchnearyou.com/church/15010/service-and-events/events/
 962247/
END:VEVENT
BEGIN:VEVENT
SUMMARY:Holy Communion
DTSTART;TZID=Europe/London:20260201T110000
DTEND;TZID=Europe/London:20260201T120000
DTSTAMP:20260421T012226Z
UID:9622472026-02-01 11:00:00+00:00achurchnearyou
CATEGORIES:
DESCRIPTION:Service of Holy Communion for about 1 hour followed by Refresh
 ments and fellowship.\nEveryone is welcome\nThis is a change to the previo
 us pattern of worship.
GEO:-0.16851;53.57355
LOCATION:St Peter & St Paul\, Healing.
URL:https://www.achurchnearyou.com/church/15010/service-and-events/events/
 962247/
END:VEVENT
BEGIN:VEVENT
SUMMARY:Holy Communion
DTSTART;TZID=Europe/London:20260301T110000
DTEND;TZID=Europe/London:20260301T120000
DTSTAMP:20260421T012226Z
UID:9622472026-03-01 11:00:00+00:00achurchnearyou
CATEGORIES:
DESCRIPTION:Service of Holy Communion for about 1 hour followed by Refresh
 ments and fellowship.\nEveryone is welcome\nThis is a change to the previo
 us pattern of worship.
GEO:-0.16851;53.57355
LOCATION:St Peter & St Paul\, Healing.
URL:https://www.achurchnearyou.com/church/15010/service-and-events/events/
 962247/
END:VEVENT
BEGIN:VEVENT
SUMMARY:Holy Communion
DTSTART;TZID=Europe/London:20260405T110000
DTEND;TZID=Europe/London:20260405T120000
DTSTAMP:20260421T012226Z
UID:9622472026-04-05 11:00:00+01:00achurchnearyou
CATEGORIES:
DESCRIPTION:Service of Holy Communion for about 1 hour followed by Refresh
 ments and fellowship.\nEveryone is welcome\nThis is a change to the previo
 us pattern of worship.
GEO:-0.16851;53.57355
LOCATION:St Peter & St Paul\, Healing.
URL:https://www.achurchnearyou.com/church/15010/service-and-events/events/
 962247/
END:VEVENT
BEGIN:VEVENT
SUMMARY:Holy Communion
DTSTART;TZID=Europe/London:20260503T110000
DTEND;TZID=Europe/London:20260503T120000
DTSTAMP:20260421T012226Z
UID:9622472026-05-03 11:00:00+01:00achurchnearyou
CATEGORIES:
DESCRIPTION:Service of Holy Communion for about 1 hour followed by Refresh
 ments and fellowship.\nEveryone is welcome\nThis is a change to the previo
 us pattern of worship.
GEO:-0.16851;53.57355
LOCATION:St Peter & St Paul\, Healing.
URL:https://www.achurchnearyou.com/church/15010/service-and-events/events/
 962247/
END:VEVENT
BEGIN:VEVENT
SUMMARY:Holy Communion
DTSTART;TZID=Europe/London:20260607T110000
DTEND;TZID=Europe/London:20260607T120000
DTSTAMP:20260421T012226Z
UID:9622472026-06-07 11:00:00+01:00achurchnearyou
CATEGORIES:
DESCRIPTION:Service of Holy Communion for about 1 hour followed by Refresh
 ments and fellowship.\nEveryone is welcome\nThis is a change to the previo
 us pattern of worship.
GEO:-0.16851;53.57355
LOCATION:St Peter & St Paul\, Healing.
URL:https://www.achurchnearyou.com/church/15010/service-and-events/events/
 962247/
END:VEVENT
BEGIN:VEVENT
SUMMARY:Holy Communion
DTSTART;TZID=Europe/London:20260705T110000
DTEND;TZID=Europe/London:20260705T120000
DTSTAMP:20260421T012226Z
UID:9622472026-07-05 11:00:00+01:00achurchnearyou
CATEGORIES:
DESCRIPTION:Service of Holy Communion for about 1 hour followed by Refresh
 ments and fellowship.\nEveryone is welcome\nThis is a change to the previo
 us pattern of worship.
GEO:-0.16851;53.57355
LOCATION:St Peter & St Paul\, Healing.
URL:https://www.achurchnearyou.com/church/15010/service-and-events/events/
 962247/
END:VEVENT
BEGIN:VEVENT
SUMMARY:Holy Communion
DTSTART;TZID=Europe/London:20260802T110000
DTEND;TZID=Europe/London:20260802T120000
DTSTAMP:20260421T012226Z
UID:9622472026-08-02 11:00:00+01:00achurchnearyou
CATEGORIES:
DESCRIPTION:Service of Holy Communion for about 1 hour followed by Refresh
 ments and fellowship.\nEveryone is welcome\nThis is a change to the previo
 us pattern of worship.
GEO:-0.16851;53.57355
LOCATION:St Peter & St Paul\, Healing.
URL:https://www.achurchnearyou.com/church/15010/service-and-events/events/
 962247/
END:VEVENT
BEGIN:VEVENT
SUMMARY:Holy Communion
DTSTART;TZID=Europe/London:20260906T110000
DTEND;TZID=Europe/London:20260906T120000
DTSTAMP:20260421T012226Z
UID:9622472026-09-06 11:00:00+01:00achurchnearyou
CATEGORIES:
DESCRIPTION:Service of Holy Communion for about 1 hour followed by Refresh
 ments and fellowship.\nEveryone is welcome\nThis is a change to the previo
 us pattern of worship.
GEO:-0.16851;53.57355
LOCATION:St Peter & St Paul\, Healing.
URL:https://www.achurchnearyou.com/church/15010/service-and-events/events/
 962247/
END:VEVENT
BEGIN:VEVENT
SUMMARY:Holy Communion
DTSTART;TZID=Europe/London:20261004T110000
DTEND;TZID=Europe/London:20261004T120000
DTSTAMP:20260421T012226Z
UID:9622472026-10-04 11:00:00+01:00achurchnearyou
CATEGORIES:
DESCRIPTION:Service of Holy Communion for about 1 hour followed by Refresh
 ments and fellowship.\nEveryone is welcome\nThis is a change to the previo
 us pattern of worship.
GEO:-0.16851;53.57355
LOCATION:St Peter & St Paul\, Healing.
URL:https://www.achurchnearyou.com/church/15010/service-and-events/events/
 962247/
END:VEVENT
BEGIN:VEVENT
SUMMARY:Holy Communion
DTSTART;TZID=Europe/London:20261101T110000
DTEND;TZID=Europe/London:20261101T120000
DTSTAMP:20260421T012226Z
UID:9622472026-11-01 11:00:00+00:00achurchnearyou
CATEGORIES:
DESCRIPTION:Service of Holy Communion for about 1 hour followed by Refresh
 ments and fellowship.\nEveryone is welcome\nThis is a change to the previo
 us pattern of worship.
GEO:-0.16851;53.57355
LOCATION:St Peter & St Paul\, Healing.
URL:https://www.achurchnearyou.com/church/15010/service-and-events/events/
 962247/
END:VEVENT
BEGIN:VEVENT
SUMMARY:Holy Communion
DTSTART;TZID=Europe/London:20261206T110000
DTEND;TZID=Europe/London:20261206T120000
DTSTAMP:20260421T012226Z
UID:9622472026-12-06 11:00:00+00:00achurchnearyou
CATEGORIES:
DESCRIPTION:Service of Holy Communion for about 1 hour followed by Refresh
 ments and fellowship.\nEveryone is welcome\nThis is a change to the previo
 us pattern of worship.
GEO:-0.16851;53.57355
LOCATION:St Peter & St Paul\, Healing.
URL:https://www.achurchnearyou.com/church/15010/service-and-events/events/
 962247/
END:VEVENT
BEGIN:VEVENT
SUMMARY:Holy Communion
DTSTART;TZID=Europe/London:20270103T110000
DTEND;TZID=Europe/London:20270103T120000
DTSTAMP:20260421T012226Z
UID:9622472027-01-03 11:00:00+00:00achurchnearyou
CATEGORIES:
DESCRIPTION:Service of Holy Communion for about 1 hour followed by Refresh
 ments and fellowship.\nEveryone is welcome\nThis is a change to the previo
 us pattern of worship.
GEO:-0.16851;53.57355
LOCATION:St Peter & St Paul\, Healing.
URL:https://www.achurchnearyou.com/church/15010/service-and-events/events/
 962247/
END:VEVENT
BEGIN:VEVENT
SUMMARY:Holy Communion
DTSTART;TZID=Europe/London:20270207T110000
DTEND;TZID=Europe/London:20270207T120000
DTSTAMP:20260421T012226Z
UID:9622472027-02-07 11:00:00+00:00achurchnearyou
CATEGORIES:
DESCRIPTION:Service of Holy Communion for about 1 hour followed by Refresh
 ments and fellowship.\nEveryone is welcome\nThis is a change to the previo
 us pattern of worship.
GEO:-0.16851;53.57355
LOCATION:St Peter & St Paul\, Healing.
URL:https://www.achurchnearyou.com/church/15010/service-and-events/events/
 962247/
END:VEVENT
BEGIN:VEVENT
SUMMARY:Holy Communion
DTSTART;TZID=Europe/London:20270307T110000
DTEND;TZID=Europe/London:20270307T120000
DTSTAMP:20260421T012226Z
UID:9622472027-03-07 11:00:00+00:00achurchnearyou
CATEGORIES:
DESCRIPTION:Service of Holy Communion for about 1 hour followed by Refresh
 ments and fellowship.\nEveryone is welcome\nThis is a change to the previo
 us pattern of worship.
GEO:-0.16851;53.57355
LOCATION:St Peter & St Paul\, Healing.
URL:https://www.achurchnearyou.com/church/15010/service-and-events/events/
 962247/
END:VEVENT
BEGIN:VEVENT
SUMMARY:Holy Communion
DTSTART;TZID=Europe/London:20270404T110000
DTEND;TZID=Europe/London:20270404T120000
DTSTAMP:20260421T012226Z
UID:9622472027-04-04 11:00:00+01:00achurchnearyou
CATEGORIES:
DESCRIPTION:Service of Holy Communion for about 1 hour followed by Refresh
 ments and fellowship.\nEveryone is welcome\nThis is a change to the previo
 us pattern of worship.
GEO:-0.16851;53.57355
LOCATION:St Peter & St Paul\, Healing.
URL:https://www.achurchnearyou.com/church/15010/service-and-events/events/
 962247/
END:VEVENT
END:VCALENDAR
