BEGIN:VCALENDAR
VERSION:2.0
PRODID:-//achurchnearyou.com//eventfeed//EN
CALSCALE:GREGORIAN
METHOD:PUBLISH
X-WR-TIMEZONE:UTC
BEGIN:VEVENT
SUMMARY:Morning Praise
DTSTART:20250608T090000Z
DTEND:20250608T100000Z
DTSTAMP:20260422T123712Z
UID:11801182025-06-08 09:00:00+00:00achurchnearyou
CATEGORIES:
DESCRIPTION:10am Morning Praise Service will be held at Belchford St Peter
  & St Paul Church
LOCATION:St Peter & St Paul Belchford
URL:https://www.achurchnearyou.com/church/15029/service-and-events/events/
 1180118/
END:VEVENT
END:VCALENDAR
