BEGIN:VCALENDAR
VERSION:2.0
PRODID:-//achurchnearyou.com//eventfeed//EN
CALSCALE:GREGORIAN
METHOD:PUBLISH
X-WR-TIMEZONE:UTC
BEGIN:VEVENT
SUMMARY:Good Friday service - Red Hill
DTSTART:20260403T083000Z
DTEND:20260403T100000Z
DTSTAMP:20260419T194050Z
UID:13172012026-04-03 08:30:00+00:00achurchnearyou
CATEGORIES:
DESCRIPTION:An open air service at Red Hill near Stenigot in Lincolnshire.
LOCATION:Red Hill
URL:https://www.achurchnearyou.com/church/15035/service-and-events/events/
 1317201/
END:VEVENT
END:VCALENDAR
