BEGIN:VCALENDAR
VERSION:2.0
PRODID:-//achurchnearyou.com//eventfeed//EN
CALSCALE:GREGORIAN
METHOD:PUBLISH
X-WR-TIMEZONE:UTC
BEGIN:VEVENT
SUMMARY:Christ the King Festival Morning Prayer - 9.30am
DTSTART:20251123T093000Z
DTEND:20251123T103000Z
DTSTAMP:20260425T025007Z
UID:11986352025-11-23 09:30:00+00:00achurchnearyou
CATEGORIES:
DESCRIPTION:Everyone is welcome to our monthly service of Morning Prayer\,
  led by the churchwarden team. If you would like to be included in the pra
 yers\, or like a loved one including\, please do get in touch.\nRefreshmen
 ts will follow the service.
GEO:-0.25108;53.20387
LOCATION:St Margaret's\, Bucknall
URL:https://www.achurchnearyou.com/church/15036/service-and-events/events/
 1198635/
END:VEVENT
END:VCALENDAR
