BEGIN:VCALENDAR
VERSION:2.0
PRODID:-//achurchnearyou.com//eventfeed//EN
CALSCALE:GREGORIAN
METHOD:PUBLISH
X-WR-TIMEZONE:UTC
BEGIN:VEVENT
SUMMARY:Bucknall Carol Service - 6pm
DTSTART:20251213T180000Z
DTEND:20251213T190000Z
DTSTAMP:20260425T040407Z
UID:7833892025-12-13 18:00:00+00:00achurchnearyou
CATEGORIES:
DESCRIPTION:Join us for this year's Carol Service at St. Margaret's. Packe
 d full of your favourite carols to get you into the festive spirit! This y
 ear's service will be led by the Rev. Sally Clifton and Churchwarden David
 .\nFree festive refreshments will follow the service.
GEO:-0.25108;53.20387
LOCATION:St Margaret's\, Bucknall
URL:https://www.achurchnearyou.com/church/15036/service-and-events/events/
 783389/
END:VEVENT
END:VCALENDAR
