BEGIN:VCALENDAR
VERSION:2.0
PRODID:-//achurchnearyou.com//eventfeed//EN
CALSCALE:GREGORIAN
METHOD:PUBLISH
X-WR-TIMEZONE:UTC
BEGIN:VEVENT
SUMMARY:ST ANDREWS CHURCH DONINGTON STEPS UP
DTSTART;TZID=Europe/London:20260402T101500
DTEND;TZID=Europe/London:20260402T114500
DTSTAMP:20260420T030024Z
UID:8498741775121300.0achurchnearyou
CATEGORIES:
DESCRIPTION:More village events supported locally.\nWe are meeting for Cof
 fee\, Cake and Conversation in the village Hall on the First THURSDAY of t
 he MONTH  \n10.15 a.m.  All welcome to join us for some lively talk and go
 od home made cake and coffee.\n#coffe#cake#conversation#getting to know# v
 illage life# doningtononbain#villagehall
GEO:-0.14566;53.32903
LOCATION:St Andrew. Donington on Bain
URL:https://www.asterbygroup.org
END:VEVENT
BEGIN:VEVENT
SUMMARY:Good Friday service - Red Hill
DTSTART;TZID=Europe/London:20260403T093000
DTEND;TZID=Europe/London:20260403T110000
DTSTAMP:20260420T030024Z
UID:13172021775205000.0achurchnearyou
CATEGORIES:
DESCRIPTION:An open air service at Red Hill near Stenigot in Lincolnshire.
LOCATION:Red Hill
URL:https://www.achurchnearyou.com/church/15038/service-and-events/events/
 1317202/
END:VEVENT
BEGIN:VEVENT
SUMMARY:LETS GO LEGO AT DONINGTON
DTSTART;TZID=Europe/London:20260404T103000
DTEND;TZID=Europe/London:20260404T120000
DTSTAMP:20260420T030024Z
UID:8498781775295000.0achurchnearyou
CATEGORIES:
DESCRIPTION:We are going LEGO crazy at Donington on Bain.  We are starting
  a LEGO CLUB on the FIRST SATURDAY\nof the month.\nWe have lego and we wil
 l meet in the Village Hall at 10.30 a.m.   We shall have a theme and towar
 ds the end of the morning we shall take photos of everyone's creations and
  put them on facebook if they wish.\n#asterbygroup#LEGO# creating# fun#Sat
 urdays#building with bricks
GEO:-0.14566;53.32903
LOCATION:St Andrew. Donington on Bain
URL:https://www.asterbygroup.org
END:VEVENT
BEGIN:VEVENT
SUMMARY:Easter Day service
DTSTART;TZID=Europe/London:20260405T100000
DTEND;TZID=Europe/London:20260405T110000
DTSTAMP:20260420T030024Z
UID:13172321775379600.0achurchnearyou
CATEGORIES:
DESCRIPTION:Easter Day service with Holy Communion
LOCATION:St Helen's\, Burgh on Bain
URL:https://www.achurchnearyou.com/church/15038/service-and-events/events/
 1317232/
END:VEVENT
BEGIN:VEVENT
SUMMARY:CRAFTS AT DONINGTON ON BAIN
DTSTART;TZID=Europe/London:20260416T101500
DTEND;TZID=Europe/London:20260416T114500
DTSTAMP:20260420T030024Z
UID:8498761776330900.0achurchnearyou
CATEGORIES:
DESCRIPTION:We are starting a Craft morning session on the THIRD THURSDAY 
 EVERY MONTH 10.25 a.m.\nStarting in September we shall meet in the villag 
 hall in Donington on Bain to share\ncraft stories and skills.  All welcome
  come along and show and teach and share.\n#knitting#sewing#embroidery#cra
 fts#conversation
GEO:-0.14566;53.32903
LOCATION:St Andrew. Donington on Bain
URL:https://www.asterbygroup.org
END:VEVENT
BEGIN:VEVENT
SUMMARY:LETS GO LEGO AT DONINGTON
DTSTART;TZID=Europe/London:20260502T103000
DTEND;TZID=Europe/London:20260502T120000
DTSTAMP:20260420T030024Z
UID:8498781777714200.0achurchnearyou
CATEGORIES:
DESCRIPTION:We are going LEGO crazy at Donington on Bain.  We are starting
  a LEGO CLUB on the FIRST SATURDAY\nof the month.\nWe have lego and we wil
 l meet in the Village Hall at 10.30 a.m.   We shall have a theme and towar
 ds the end of the morning we shall take photos of everyone's creations and
  put them on facebook if they wish.\n#asterbygroup#LEGO# creating# fun#Sat
 urdays#building with bricks
GEO:-0.14566;53.32903
LOCATION:St Andrew. Donington on Bain
URL:https://www.asterbygroup.org
END:VEVENT
BEGIN:VEVENT
SUMMARY:ST ANDREWS CHURCH DONINGTON STEPS UP
DTSTART;TZID=Europe/London:20260507T101500
DTEND;TZID=Europe/London:20260507T114500
DTSTAMP:20260420T030024Z
UID:8498741778145300.0achurchnearyou
CATEGORIES:
DESCRIPTION:More village events supported locally.\nWe are meeting for Cof
 fee\, Cake and Conversation in the village Hall on the First THURSDAY of t
 he MONTH  \n10.15 a.m.  All welcome to join us for some lively talk and go
 od home made cake and coffee.\n#coffe#cake#conversation#getting to know# v
 illage life# doningtononbain#villagehall
GEO:-0.14566;53.32903
LOCATION:St Andrew. Donington on Bain
URL:https://www.asterbygroup.org
END:VEVENT
BEGIN:VEVENT
SUMMARY:CRAFTS AT DONINGTON ON BAIN
DTSTART;TZID=Europe/London:20260521T101500
DTEND;TZID=Europe/London:20260521T114500
DTSTAMP:20260420T030024Z
UID:8498761779354900.0achurchnearyou
CATEGORIES:
DESCRIPTION:We are starting a Craft morning session on the THIRD THURSDAY 
 EVERY MONTH 10.25 a.m.\nStarting in September we shall meet in the villag 
 hall in Donington on Bain to share\ncraft stories and skills.  All welcome
  come along and show and teach and share.\n#knitting#sewing#embroidery#cra
 fts#conversation
GEO:-0.14566;53.32903
LOCATION:St Andrew. Donington on Bain
URL:https://www.asterbygroup.org
END:VEVENT
BEGIN:VEVENT
SUMMARY:ST ANDREWS CHURCH DONINGTON STEPS UP
DTSTART;TZID=Europe/London:20260604T101500
DTEND;TZID=Europe/London:20260604T114500
DTSTAMP:20260420T030024Z
UID:8498741780564500.0achurchnearyou
CATEGORIES:
DESCRIPTION:More village events supported locally.\nWe are meeting for Cof
 fee\, Cake and Conversation in the village Hall on the First THURSDAY of t
 he MONTH  \n10.15 a.m.  All welcome to join us for some lively talk and go
 od home made cake and coffee.\n#coffe#cake#conversation#getting to know# v
 illage life# doningtononbain#villagehall
GEO:-0.14566;53.32903
LOCATION:St Andrew. Donington on Bain
URL:https://www.asterbygroup.org
END:VEVENT
BEGIN:VEVENT
SUMMARY:LETS GO LEGO AT DONINGTON
DTSTART;TZID=Europe/London:20260606T103000
DTEND;TZID=Europe/London:20260606T120000
DTSTAMP:20260420T030024Z
UID:8498781780738200.0achurchnearyou
CATEGORIES:
DESCRIPTION:We are going LEGO crazy at Donington on Bain.  We are starting
  a LEGO CLUB on the FIRST SATURDAY\nof the month.\nWe have lego and we wil
 l meet in the Village Hall at 10.30 a.m.   We shall have a theme and towar
 ds the end of the morning we shall take photos of everyone's creations and
  put them on facebook if they wish.\n#asterbygroup#LEGO# creating# fun#Sat
 urdays#building with bricks
GEO:-0.14566;53.32903
LOCATION:St Andrew. Donington on Bain
URL:https://www.asterbygroup.org
END:VEVENT
BEGIN:VEVENT
SUMMARY:CRAFTS AT DONINGTON ON BAIN
DTSTART;TZID=Europe/London:20260618T101500
DTEND;TZID=Europe/London:20260618T114500
DTSTAMP:20260420T030024Z
UID:8498761781774100.0achurchnearyou
CATEGORIES:
DESCRIPTION:We are starting a Craft morning session on the THIRD THURSDAY 
 EVERY MONTH 10.25 a.m.\nStarting in September we shall meet in the villag 
 hall in Donington on Bain to share\ncraft stories and skills.  All welcome
  come along and show and teach and share.\n#knitting#sewing#embroidery#cra
 fts#conversation
GEO:-0.14566;53.32903
LOCATION:St Andrew. Donington on Bain
URL:https://www.asterbygroup.org
END:VEVENT
BEGIN:VEVENT
SUMMARY:ST ANDREWS CHURCH DONINGTON STEPS UP
DTSTART;TZID=Europe/London:20260702T101500
DTEND;TZID=Europe/London:20260702T114500
DTSTAMP:20260420T030024Z
UID:8498741782983700.0achurchnearyou
CATEGORIES:
DESCRIPTION:More village events supported locally.\nWe are meeting for Cof
 fee\, Cake and Conversation in the village Hall on the First THURSDAY of t
 he MONTH  \n10.15 a.m.  All welcome to join us for some lively talk and go
 od home made cake and coffee.\n#coffe#cake#conversation#getting to know# v
 illage life# doningtononbain#villagehall
GEO:-0.14566;53.32903
LOCATION:St Andrew. Donington on Bain
URL:https://www.asterbygroup.org
END:VEVENT
BEGIN:VEVENT
SUMMARY:LETS GO LEGO AT DONINGTON
DTSTART;TZID=Europe/London:20260704T103000
DTEND;TZID=Europe/London:20260704T120000
DTSTAMP:20260420T030024Z
UID:8498781783157400.0achurchnearyou
CATEGORIES:
DESCRIPTION:We are going LEGO crazy at Donington on Bain.  We are starting
  a LEGO CLUB on the FIRST SATURDAY\nof the month.\nWe have lego and we wil
 l meet in the Village Hall at 10.30 a.m.   We shall have a theme and towar
 ds the end of the morning we shall take photos of everyone's creations and
  put them on facebook if they wish.\n#asterbygroup#LEGO# creating# fun#Sat
 urdays#building with bricks
GEO:-0.14566;53.32903
LOCATION:St Andrew. Donington on Bain
URL:https://www.asterbygroup.org
END:VEVENT
BEGIN:VEVENT
SUMMARY:CRAFTS AT DONINGTON ON BAIN
DTSTART;TZID=Europe/London:20260716T101500
DTEND;TZID=Europe/London:20260716T114500
DTSTAMP:20260420T030024Z
UID:8498761784193300.0achurchnearyou
CATEGORIES:
DESCRIPTION:We are starting a Craft morning session on the THIRD THURSDAY 
 EVERY MONTH 10.25 a.m.\nStarting in September we shall meet in the villag 
 hall in Donington on Bain to share\ncraft stories and skills.  All welcome
  come along and show and teach and share.\n#knitting#sewing#embroidery#cra
 fts#conversation
GEO:-0.14566;53.32903
LOCATION:St Andrew. Donington on Bain
URL:https://www.asterbygroup.org
END:VEVENT
BEGIN:VEVENT
SUMMARY:LETS GO LEGO AT DONINGTON
DTSTART;TZID=Europe/London:20260801T103000
DTEND;TZID=Europe/London:20260801T120000
DTSTAMP:20260420T030024Z
UID:8498781785576600.0achurchnearyou
CATEGORIES:
DESCRIPTION:We are going LEGO crazy at Donington on Bain.  We are starting
  a LEGO CLUB on the FIRST SATURDAY\nof the month.\nWe have lego and we wil
 l meet in the Village Hall at 10.30 a.m.   We shall have a theme and towar
 ds the end of the morning we shall take photos of everyone's creations and
  put them on facebook if they wish.\n#asterbygroup#LEGO# creating# fun#Sat
 urdays#building with bricks
GEO:-0.14566;53.32903
LOCATION:St Andrew. Donington on Bain
URL:https://www.asterbygroup.org
END:VEVENT
BEGIN:VEVENT
SUMMARY:ST ANDREWS CHURCH DONINGTON STEPS UP
DTSTART;TZID=Europe/London:20260806T101500
DTEND;TZID=Europe/London:20260806T114500
DTSTAMP:20260420T030024Z
UID:8498741786007700.0achurchnearyou
CATEGORIES:
DESCRIPTION:More village events supported locally.\nWe are meeting for Cof
 fee\, Cake and Conversation in the village Hall on the First THURSDAY of t
 he MONTH  \n10.15 a.m.  All welcome to join us for some lively talk and go
 od home made cake and coffee.\n#coffe#cake#conversation#getting to know# v
 illage life# doningtononbain#villagehall
GEO:-0.14566;53.32903
LOCATION:St Andrew. Donington on Bain
URL:https://www.asterbygroup.org
END:VEVENT
BEGIN:VEVENT
SUMMARY:CRAFTS AT DONINGTON ON BAIN
DTSTART;TZID=Europe/London:20260820T101500
DTEND;TZID=Europe/London:20260820T114500
DTSTAMP:20260420T030024Z
UID:8498761787217300.0achurchnearyou
CATEGORIES:
DESCRIPTION:We are starting a Craft morning session on the THIRD THURSDAY 
 EVERY MONTH 10.25 a.m.\nStarting in September we shall meet in the villag 
 hall in Donington on Bain to share\ncraft stories and skills.  All welcome
  come along and show and teach and share.\n#knitting#sewing#embroidery#cra
 fts#conversation
GEO:-0.14566;53.32903
LOCATION:St Andrew. Donington on Bain
URL:https://www.asterbygroup.org
END:VEVENT
BEGIN:VEVENT
SUMMARY:ST ANDREWS CHURCH DONINGTON STEPS UP
DTSTART;TZID=Europe/London:20260903T101500
DTEND;TZID=Europe/London:20260903T114500
DTSTAMP:20260420T030024Z
UID:8498741788426900.0achurchnearyou
CATEGORIES:
DESCRIPTION:More village events supported locally.\nWe are meeting for Cof
 fee\, Cake and Conversation in the village Hall on the First THURSDAY of t
 he MONTH  \n10.15 a.m.  All welcome to join us for some lively talk and go
 od home made cake and coffee.\n#coffe#cake#conversation#getting to know# v
 illage life# doningtononbain#villagehall
GEO:-0.14566;53.32903
LOCATION:St Andrew. Donington on Bain
URL:https://www.asterbygroup.org
END:VEVENT
BEGIN:VEVENT
SUMMARY:LETS GO LEGO AT DONINGTON
DTSTART;TZID=Europe/London:20260905T103000
DTEND;TZID=Europe/London:20260905T120000
DTSTAMP:20260420T030024Z
UID:8498781788600600.0achurchnearyou
CATEGORIES:
DESCRIPTION:We are going LEGO crazy at Donington on Bain.  We are starting
  a LEGO CLUB on the FIRST SATURDAY\nof the month.\nWe have lego and we wil
 l meet in the Village Hall at 10.30 a.m.   We shall have a theme and towar
 ds the end of the morning we shall take photos of everyone's creations and
  put them on facebook if they wish.\n#asterbygroup#LEGO# creating# fun#Sat
 urdays#building with bricks
GEO:-0.14566;53.32903
LOCATION:St Andrew. Donington on Bain
URL:https://www.asterbygroup.org
END:VEVENT
BEGIN:VEVENT
SUMMARY:CRAFTS AT DONINGTON ON BAIN
DTSTART;TZID=Europe/London:20260917T101500
DTEND;TZID=Europe/London:20260917T114500
DTSTAMP:20260420T030024Z
UID:8498761789636500.0achurchnearyou
CATEGORIES:
DESCRIPTION:We are starting a Craft morning session on the THIRD THURSDAY 
 EVERY MONTH 10.25 a.m.\nStarting in September we shall meet in the villag 
 hall in Donington on Bain to share\ncraft stories and skills.  All welcome
  come along and show and teach and share.\n#knitting#sewing#embroidery#cra
 fts#conversation
GEO:-0.14566;53.32903
LOCATION:St Andrew. Donington on Bain
URL:https://www.asterbygroup.org
END:VEVENT
END:VCALENDAR
