BEGIN:VCALENDAR
VERSION:2.0
PRODID:-//achurchnearyou.com//eventfeed//EN
CALSCALE:GREGORIAN
METHOD:PUBLISH
X-WR-TIMEZONE:UTC
BEGIN:VEVENT
SUMMARY:Matins
DTSTART:20251228T100000Z
DTEND:20251228T110000Z
DTSTAMP:20260422T023623Z
UID:12638652025-12-28 10:00:00+00:00achurchnearyou
CATEGORIES:
DESCRIPTION:Sunday 28th December at 10am BCP Matins at St Margarets Church
  in Hemingby
GEO:-0.147066;53.252351
LOCATION:St Margaret Hemingby
URL:https://www.achurchnearyou.com/church/15047/service-and-events/events/
 1263865/
END:VEVENT
END:VCALENDAR
