BEGIN:VCALENDAR
VERSION:2.0
PRODID:-//achurchnearyou.com//eventfeed//EN
CALSCALE:GREGORIAN
METHOD:PUBLISH
X-WR-TIMEZONE:UTC
BEGIN:VEVENT
SUMMARY:Charity Raffle
DTSTART:20240908T180000Z
DTEND:20240908T190000Z
DTSTAMP:20260422T054444Z
UID:10818322024-09-08 18:00:00+00:00achurchnearyou
CATEGORIES:
DESCRIPTION:We are raising funds for Horsington Church Roof! Raffle ticket
 s are £1 pound each or £5 for a book\, £100 first prize and lots of oth
 er prizes! The draw will take place on the 7th September 8pm in Horsington
  Village Hall. \n\nif you would like any tickets please email bucknallpcc@
 aol.com
LOCATION:Charles Hill Community Hall
URL:https://www.achurchnearyou.com/church/15049/service-and-events/events/
 1081832/
END:VEVENT
END:VCALENDAR
