BEGIN:VCALENDAR
VERSION:2.0
PRODID:-//achurchnearyou.com//eventfeed//EN
CALSCALE:GREGORIAN
METHOD:PUBLISH
X-WR-TIMEZONE:UTC
BEGIN:VEVENT
SUMMARY:Family friendly Eucharist
DTSTART;TZID=Europe/London:20251228T110000
DTEND;TZID=Europe/London:20251228T120000
DTSTAMP:20260425T014240Z
UID:12758642025-12-28 11:00:00+00:00achurchnearyou
CATEGORIES:
DESCRIPTION:This service follows the Holy Family as they flee to Egypt to 
 escape Herod's persecution\nWith Revd Pam presiding.\nThis is the only ser
 vice happening in the two groups on this Sunday
LOCATION:St Peter's\, Woodhall Spa
URL:https://www.achurchnearyou.com/church/15053/service-and-events/events/
 1275864/
END:VEVENT
END:VCALENDAR
