BEGIN:VCALENDAR
VERSION:2.0
PRODID:-//achurchnearyou.com//eventfeed//EN
CALSCALE:GREGORIAN
METHOD:PUBLISH
X-WR-TIMEZONE:UTC
BEGIN:VEVENT
SUMMARY:HIGH IMPORTANCE! Annual Joint Church Council Meeting
DTSTART:20260519T183000Z
DTEND:20260519T193000Z
DTSTAMP:20260420T032350Z
UID:13153232026-05-19 18:30:00+00:00achurchnearyou
CATEGORIES:
DESCRIPTION:Everyone who is on the electoral roll of their village churche
 s is welcome to attend.\n\nChurch wardens and JCC representatives will hav
 e already been voted in at the Annual Meeting for your church. This is a m
 eeting to discuss moving forward as a group\, what our churches have plann
 ed and how we can work together.
LOCATION:St Peter's\, Woodhall Spa
URL:https://www.achurchnearyou.com/church/15053/service-and-events/events/
 1315323/
END:VEVENT
END:VCALENDAR
