BEGIN:VCALENDAR
VERSION:2.0
PRODID:-//achurchnearyou.com//eventfeed//EN
CALSCALE:GREGORIAN
METHOD:PUBLISH
X-WR-TIMEZONE:UTC
BEGIN:VEVENT
SUMMARY:Bucknall Scarecrow Trail & Festival Weekend
DTSTART;TZID=Europe/London:20250614T100000
DTEND;TZID=Europe/London:20250614T150000
DTSTAMP:20260425T192046Z
UID:12032962025-06-14 10:00:00+01:00achurchnearyou
CATEGORIES:
DESCRIPTION:It's Bucknall's first ever Scarecrow Festival! \n\nOver the we
 ekend\, the church will be open and there will be a map available for anyo
 ne to come and take part\, solving the clues to go between the scarecrows\
 , until you find the final clue! \nRefreshments will be on sale at the chu
 rch too. All proceeds will go to St. Margaret's Church.\n\nIf you would li
 ke any further information\, please get in touch - either via A Church Nea
 r You\, or email bucknallPCC@aol.com
LOCATION:St Margaret's\, Bucknall
URL:https://www.achurchnearyou.com/church/15070/service-and-events/events/
 1203296/
END:VEVENT
BEGIN:VEVENT
SUMMARY:Bucknall Scarecrow Trail & Festival Weekend
DTSTART;TZID=Europe/London:20250615T100000
DTEND;TZID=Europe/London:20250615T150000
DTSTAMP:20260425T192046Z
UID:12032962025-06-15 10:00:00+01:00achurchnearyou
CATEGORIES:
DESCRIPTION:It's Bucknall's first ever Scarecrow Festival! \n\nOver the we
 ekend\, the church will be open and there will be a map available for anyo
 ne to come and take part\, solving the clues to go between the scarecrows\
 , until you find the final clue! \nRefreshments will be on sale at the chu
 rch too. All proceeds will go to St. Margaret's Church.\n\nIf you would li
 ke any further information\, please get in touch - either via A Church Nea
 r You\, or email bucknallPCC@aol.com
LOCATION:St Margaret's\, Bucknall
URL:https://www.achurchnearyou.com/church/15070/service-and-events/events/
 1203296/
END:VEVENT
END:VCALENDAR
