BEGIN:VCALENDAR
VERSION:2.0
PRODID:-//achurchnearyou.com//eventfeed//EN
CALSCALE:GREGORIAN
METHOD:PUBLISH
X-WR-TIMEZONE:UTC
BEGIN:VEVENT
SUMMARY:MORNING PRAYER
DTSTART:20260426T074500Z
DTEND:20260426T084500Z
DTSTAMP:20260426T010504Z
UID:13251202026-04-26 07:45:00+00:00achurchnearyou
CATEGORIES:
DESCRIPTION:A simple service based on the 'prayer-book' Matins\, which\, d
 epending on the state of the organ currently undergoing repairs to its bel
 lows\, may include hynms\, led by Lay Reader David Margarson\, with some s
 ort of refreshment and informal chatter to follow in the kitchen of a near
 by home.
GEO:-0.13107;53.45313
LOCATION:All Saints\, Wold Newton
URL:https://www.achurchnearyou.com/church/15085/service-and-events/events/
 1325120/
END:VEVENT
END:VCALENDAR
