BEGIN:VCALENDAR
VERSION:2.0
PRODID:-//achurchnearyou.com//eventfeed//EN
CALSCALE:GREGORIAN
METHOD:PUBLISH
X-WR-TIMEZONE:UTC
BEGIN:VEVENT
SUMMARY:Sunday Morning Eucharist
DTSTART:20260524T074500Z
DTEND:20260524T084500Z
DTSTAMP:20260426T031214Z
UID:13251242026-05-24 07:45:00+00:00achurchnearyou
CATEGORIES:
DESCRIPTION:A service with Holy Communion and hymns\, led by Revd Paul Sal
 mon.  Some simple refreshments may follow either in a nearby kitchen or ga
 rden\, should the weather allow.
GEO:-0.13107;53.45313
LOCATION:All Saints\, Wold Newton
URL:https://www.achurchnearyou.com/church/15085/service-and-events/events/
 1325124/
END:VEVENT
END:VCALENDAR
