BEGIN:VCALENDAR
VERSION:2.0
PRODID:-//achurchnearyou.com//eventfeed//EN
CALSCALE:GREGORIAN
METHOD:PUBLISH
X-WR-TIMEZONE:UTC
BEGIN:VEVENT
SUMMARY:Advent Course - session 1 of 3
DTSTART:20251202T100000Z
DTEND:20251202T120000Z
DTSTAMP:20260421T124643Z
UID:12383232025-12-02 10:00:00+00:00achurchnearyou
CATEGORIES:
DESCRIPTION:The 2025 Advent Course\, created in the Diocese.  "SET OUR HEA
 RTS ON FIRE". \nPlease join us as we journey through Advent towards the Ch
 ristmas festival.
LOCATION:Legbourne Community Centre
URL:https://www.achurchnearyou.com/church/15093/service-and-events/events/
 1238323/
END:VEVENT
END:VCALENDAR
