BEGIN:VCALENDAR
VERSION:2.0
PRODID:-//achurchnearyou.com//eventfeed//EN
CALSCALE:GREGORIAN
METHOD:PUBLISH
X-WR-TIMEZONE:UTC
BEGIN:VEVENT
SUMMARY:Primrose Sunday
DTSTART:20250406T100000Z
DTEND:20250406T140000Z
DTSTAMP:20260422T063331Z
UID:11618852025-04-06 10:00:00+00:00achurchnearyou
CATEGORIES:
DESCRIPTION:A social event for everyone.\nRefreshments\, plants\, cakes an
 d rumour has it that the Fairies and Elves will show their faces
GEO:-0.036365;53.419859
LOCATION:Utterby St Andrew
URL:https://www.achurchnearyou.com/church/15117/service-and-events/events/
 1161885/
END:VEVENT
END:VCALENDAR
