BEGIN:VCALENDAR
VERSION:2.0
PRODID:-//achurchnearyou.com//eventfeed//EN
CALSCALE:GREGORIAN
METHOD:PUBLISH
X-WR-TIMEZONE:UTC
BEGIN:VEVENT
SUMMARY:Good Friday Liturgy
DTSTART;TZID=Europe/London:20260403T140000
DTEND;TZID=Europe/London:20260403T150000
DTSTAMP:20260423T071024Z
UID:13214242026-04-03 14:00:00+01:00achurchnearyou
CATEGORIES:
DESCRIPTION:The Passion of the Lord Jesus Christ is read\, the cross vener
 ated\, and we end in silence as we mark the day of His death\, for the sin
 s of the world.
GEO:-2.994976;53.407025
LOCATION:Liverpool Parish Church of Our Lady and St Nicholas
URL:https://www.achurchnearyou.com/church/15149/service-and-events/events/
 1321424/
END:VEVENT
END:VCALENDAR
