BEGIN:VCALENDAR
VERSION:2.0
PRODID:-//achurchnearyou.com//eventfeed//EN
CALSCALE:GREGORIAN
METHOD:PUBLISH
X-WR-TIMEZONE:UTC
BEGIN:VEVENT
SUMMARY:Christmas Day family service
DTSTART:20251225T100000Z
DTEND:20251225T104500Z
DTSTAMP:20260421T073115Z
UID:10064852025-12-25 10:00:00+00:00achurchnearyou
CATEGORIES:
DESCRIPTION:Come to welcome the Christ Child on Christmas Day
GEO:-2.829272;53.361242
LOCATION:St Mary's\, Halewood
URL:https://www.achurchnearyou.com/church/15171/service-and-events/events/
 1006485/
END:VEVENT
END:VCALENDAR
