BEGIN:VCALENDAR
VERSION:2.0
PRODID:-//achurchnearyou.com//eventfeed//EN
CALSCALE:GREGORIAN
METHOD:PUBLISH
X-WR-TIMEZONE:UTC
BEGIN:VEVENT
SUMMARY:Easter Day Sunrise Service
DTSTART:20260405T053000Z
DTEND:20260405T061500Z
DTSTAMP:20260420T233008Z
UID:10463172026-04-05 05:30:00+00:00achurchnearyou
CATEGORIES:
DESCRIPTION:An outdoor service to welcome Christ's resurrection as the sun
  rises\, followed by breakfast at St Mary's Halewood.  NB: if the weather 
 is bad\, the venue may need to be changed.
LOCATION:Wood Road Field
URL:https://www.achurchnearyou.com/church/15171/service-and-events/events/
 1046317/
END:VEVENT
END:VCALENDAR
