BEGIN:VCALENDAR
VERSION:2.0
PRODID:-//achurchnearyou.com//eventfeed//EN
CALSCALE:GREGORIAN
METHOD:PUBLISH
X-WR-TIMEZONE:UTC
BEGIN:VEVENT
SUMMARY:Maundy Thursday service of reflection and communion
DTSTART:20260402T180000Z
DTEND:20260402T190000Z
DTSTAMP:20260421T011202Z
UID:13068882026-04-02 18:00:00+00:00achurchnearyou
CATEGORIES:
DESCRIPTION:A service to mark the start of Easter weekend
GEO:-2.829272;53.361242
LOCATION:Hunts Cross: St Hilda
URL:https://www.achurchnearyou.com/church/15171/service-and-events/events/
 1306888/
END:VEVENT
END:VCALENDAR
