BEGIN:VCALENDAR
VERSION:2.0
PRODID:-//achurchnearyou.com//eventfeed//EN
CALSCALE:GREGORIAN
METHOD:PUBLISH
X-WR-TIMEZONE:UTC
BEGIN:VEVENT
SUMMARY:Foodbank
DTSTART;TZID=Europe/London:20260404T100000
DTEND;TZID=Europe/London:20260404T120000
DTSTAMP:20260422T115548Z
UID:10228541775293200.0achurchnearyou
CATEGORIES:
DESCRIPTION:Trussell Trust Foodbank
GEO:-2.868847;53.394896
LOCATION:St Mark's
URL:https://www.achurchnearyou.com/church/15174/service-and-events/events/
 1022854/
END:VEVENT
BEGIN:VEVENT
SUMMARY:Foodbank
DTSTART;TZID=Europe/London:20260411T100000
DTEND;TZID=Europe/London:20260411T120000
DTSTAMP:20260422T115548Z
UID:10228541775898000.0achurchnearyou
CATEGORIES:
DESCRIPTION:Trussell Trust Foodbank
GEO:-2.868847;53.394896
LOCATION:St Mark's
URL:https://www.achurchnearyou.com/church/15174/service-and-events/events/
 1022854/
END:VEVENT
BEGIN:VEVENT
SUMMARY:Morning Service
DTSTART;TZID=Europe/London:20260412T103000
DTEND;TZID=Europe/London:20260412T113000
DTSTAMP:20260422T115548Z
UID:10223061775986200.0achurchnearyou
CATEGORIES:
DESCRIPTION:Our Sunday Services begin at 10:30am and last for about 1 hour
 . Sometimes we share in a joint team service\, so are not always in St Ste
 phens. The usual pattern is:\n     1st Sunday St Stephens Team Service Hol
 y Communion\n     2nd Sunday St Stephens & St Marks\n     3rd Sunday St Ma
 rks Team Service Holy Communion\n     4th Sunday St Stephens & St Marks\n 
     5th Sunday check our notice sheet news update here https://www.gateacr
 eteam.com/news-updates\n\nSeasonal events will also cause us to change whe
 re and how we worship\, so again best to double check our notices if it is
  Lent and Easter\, Harvest\, Remembrance or Advent and Christmas.
GEO:-2.868847;53.394896
LOCATION:St Mark's
URL:https://www.achurchnearyou.com/church/15174/service-and-events/events/
 1022306/
END:VEVENT
BEGIN:VEVENT
SUMMARY:Foodbank
DTSTART;TZID=Europe/London:20260418T100000
DTEND;TZID=Europe/London:20260418T120000
DTSTAMP:20260422T115548Z
UID:10228541776502800.0achurchnearyou
CATEGORIES:
DESCRIPTION:Trussell Trust Foodbank
GEO:-2.868847;53.394896
LOCATION:St Mark's
URL:https://www.achurchnearyou.com/church/15174/service-and-events/events/
 1022854/
END:VEVENT
BEGIN:VEVENT
SUMMARY:Morning Service
DTSTART;TZID=Europe/London:20260419T103000
DTEND;TZID=Europe/London:20260419T113000
DTSTAMP:20260422T115548Z
UID:10223061776591000.0achurchnearyou
CATEGORIES:
DESCRIPTION:Our Sunday Services begin at 10:30am and last for about 1 hour
 . Sometimes we share in a joint team service\, so are not always in St Ste
 phens. The usual pattern is:\n     1st Sunday St Stephens Team Service Hol
 y Communion\n     2nd Sunday St Stephens & St Marks\n     3rd Sunday St Ma
 rks Team Service Holy Communion\n     4th Sunday St Stephens & St Marks\n 
     5th Sunday check our notice sheet news update here https://www.gateacr
 eteam.com/news-updates\n\nSeasonal events will also cause us to change whe
 re and how we worship\, so again best to double check our notices if it is
  Lent and Easter\, Harvest\, Remembrance or Advent and Christmas.
GEO:-2.868847;53.394896
LOCATION:St Mark's
URL:https://www.achurchnearyou.com/church/15174/service-and-events/events/
 1022306/
END:VEVENT
BEGIN:VEVENT
SUMMARY:Foodbank
DTSTART;TZID=Europe/London:20260425T100000
DTEND;TZID=Europe/London:20260425T120000
DTSTAMP:20260422T115548Z
UID:10228541777107600.0achurchnearyou
CATEGORIES:
DESCRIPTION:Trussell Trust Foodbank
GEO:-2.868847;53.394896
LOCATION:St Mark's
URL:https://www.achurchnearyou.com/church/15174/service-and-events/events/
 1022854/
END:VEVENT
BEGIN:VEVENT
SUMMARY:Morning Service
DTSTART;TZID=Europe/London:20260426T103000
DTEND;TZID=Europe/London:20260426T113000
DTSTAMP:20260422T115548Z
UID:10223061777195800.0achurchnearyou
CATEGORIES:
DESCRIPTION:Our Sunday Services begin at 10:30am and last for about 1 hour
 . Sometimes we share in a joint team service\, so are not always in St Ste
 phens. The usual pattern is:\n     1st Sunday St Stephens Team Service Hol
 y Communion\n     2nd Sunday St Stephens & St Marks\n     3rd Sunday St Ma
 rks Team Service Holy Communion\n     4th Sunday St Stephens & St Marks\n 
     5th Sunday check our notice sheet news update here https://www.gateacr
 eteam.com/news-updates\n\nSeasonal events will also cause us to change whe
 re and how we worship\, so again best to double check our notices if it is
  Lent and Easter\, Harvest\, Remembrance or Advent and Christmas.
GEO:-2.868847;53.394896
LOCATION:St Mark's
URL:https://www.achurchnearyou.com/church/15174/service-and-events/events/
 1022306/
END:VEVENT
BEGIN:VEVENT
SUMMARY:Foodbank
DTSTART;TZID=Europe/London:20260502T100000
DTEND;TZID=Europe/London:20260502T120000
DTSTAMP:20260422T115548Z
UID:10228541777712400.0achurchnearyou
CATEGORIES:
DESCRIPTION:Trussell Trust Foodbank
GEO:-2.868847;53.394896
LOCATION:St Mark's
URL:https://www.achurchnearyou.com/church/15174/service-and-events/events/
 1022854/
END:VEVENT
BEGIN:VEVENT
SUMMARY:Foodbank
DTSTART;TZID=Europe/London:20260509T100000
DTEND;TZID=Europe/London:20260509T120000
DTSTAMP:20260422T115548Z
UID:10228541778317200.0achurchnearyou
CATEGORIES:
DESCRIPTION:Trussell Trust Foodbank
GEO:-2.868847;53.394896
LOCATION:St Mark's
URL:https://www.achurchnearyou.com/church/15174/service-and-events/events/
 1022854/
END:VEVENT
BEGIN:VEVENT
SUMMARY:Morning Service
DTSTART;TZID=Europe/London:20260510T103000
DTEND;TZID=Europe/London:20260510T113000
DTSTAMP:20260422T115548Z
UID:10223061778405400.0achurchnearyou
CATEGORIES:
DESCRIPTION:Our Sunday Services begin at 10:30am and last for about 1 hour
 . Sometimes we share in a joint team service\, so are not always in St Ste
 phens. The usual pattern is:\n     1st Sunday St Stephens Team Service Hol
 y Communion\n     2nd Sunday St Stephens & St Marks\n     3rd Sunday St Ma
 rks Team Service Holy Communion\n     4th Sunday St Stephens & St Marks\n 
     5th Sunday check our notice sheet news update here https://www.gateacr
 eteam.com/news-updates\n\nSeasonal events will also cause us to change whe
 re and how we worship\, so again best to double check our notices if it is
  Lent and Easter\, Harvest\, Remembrance or Advent and Christmas.
GEO:-2.868847;53.394896
LOCATION:St Mark's
URL:https://www.achurchnearyou.com/church/15174/service-and-events/events/
 1022306/
END:VEVENT
BEGIN:VEVENT
SUMMARY:Foodbank
DTSTART;TZID=Europe/London:20260516T100000
DTEND;TZID=Europe/London:20260516T120000
DTSTAMP:20260422T115548Z
UID:10228541778922000.0achurchnearyou
CATEGORIES:
DESCRIPTION:Trussell Trust Foodbank
GEO:-2.868847;53.394896
LOCATION:St Mark's
URL:https://www.achurchnearyou.com/church/15174/service-and-events/events/
 1022854/
END:VEVENT
BEGIN:VEVENT
SUMMARY:Morning Service
DTSTART;TZID=Europe/London:20260517T103000
DTEND;TZID=Europe/London:20260517T113000
DTSTAMP:20260422T115548Z
UID:10223061779010200.0achurchnearyou
CATEGORIES:
DESCRIPTION:Our Sunday Services begin at 10:30am and last for about 1 hour
 . Sometimes we share in a joint team service\, so are not always in St Ste
 phens. The usual pattern is:\n     1st Sunday St Stephens Team Service Hol
 y Communion\n     2nd Sunday St Stephens & St Marks\n     3rd Sunday St Ma
 rks Team Service Holy Communion\n     4th Sunday St Stephens & St Marks\n 
     5th Sunday check our notice sheet news update here https://www.gateacr
 eteam.com/news-updates\n\nSeasonal events will also cause us to change whe
 re and how we worship\, so again best to double check our notices if it is
  Lent and Easter\, Harvest\, Remembrance or Advent and Christmas.
GEO:-2.868847;53.394896
LOCATION:St Mark's
URL:https://www.achurchnearyou.com/church/15174/service-and-events/events/
 1022306/
END:VEVENT
BEGIN:VEVENT
SUMMARY:Foodbank
DTSTART;TZID=Europe/London:20260523T100000
DTEND;TZID=Europe/London:20260523T120000
DTSTAMP:20260422T115548Z
UID:10228541779526800.0achurchnearyou
CATEGORIES:
DESCRIPTION:Trussell Trust Foodbank
GEO:-2.868847;53.394896
LOCATION:St Mark's
URL:https://www.achurchnearyou.com/church/15174/service-and-events/events/
 1022854/
END:VEVENT
BEGIN:VEVENT
SUMMARY:Morning Service
DTSTART;TZID=Europe/London:20260524T103000
DTEND;TZID=Europe/London:20260524T113000
DTSTAMP:20260422T115548Z
UID:10223061779615000.0achurchnearyou
CATEGORIES:
DESCRIPTION:Our Sunday Services begin at 10:30am and last for about 1 hour
 . Sometimes we share in a joint team service\, so are not always in St Ste
 phens. The usual pattern is:\n     1st Sunday St Stephens Team Service Hol
 y Communion\n     2nd Sunday St Stephens & St Marks\n     3rd Sunday St Ma
 rks Team Service Holy Communion\n     4th Sunday St Stephens & St Marks\n 
     5th Sunday check our notice sheet news update here https://www.gateacr
 eteam.com/news-updates\n\nSeasonal events will also cause us to change whe
 re and how we worship\, so again best to double check our notices if it is
  Lent and Easter\, Harvest\, Remembrance or Advent and Christmas.
GEO:-2.868847;53.394896
LOCATION:St Mark's
URL:https://www.achurchnearyou.com/church/15174/service-and-events/events/
 1022306/
END:VEVENT
BEGIN:VEVENT
SUMMARY:Foodbank
DTSTART;TZID=Europe/London:20260530T100000
DTEND;TZID=Europe/London:20260530T120000
DTSTAMP:20260422T115548Z
UID:10228541780131600.0achurchnearyou
CATEGORIES:
DESCRIPTION:Trussell Trust Foodbank
GEO:-2.868847;53.394896
LOCATION:St Mark's
URL:https://www.achurchnearyou.com/church/15174/service-and-events/events/
 1022854/
END:VEVENT
BEGIN:VEVENT
SUMMARY:Foodbank
DTSTART;TZID=Europe/London:20260606T100000
DTEND;TZID=Europe/London:20260606T120000
DTSTAMP:20260422T115548Z
UID:10228541780736400.0achurchnearyou
CATEGORIES:
DESCRIPTION:Trussell Trust Foodbank
GEO:-2.868847;53.394896
LOCATION:St Mark's
URL:https://www.achurchnearyou.com/church/15174/service-and-events/events/
 1022854/
END:VEVENT
BEGIN:VEVENT
SUMMARY:Foodbank
DTSTART;TZID=Europe/London:20260613T100000
DTEND;TZID=Europe/London:20260613T120000
DTSTAMP:20260422T115548Z
UID:10228541781341200.0achurchnearyou
CATEGORIES:
DESCRIPTION:Trussell Trust Foodbank
GEO:-2.868847;53.394896
LOCATION:St Mark's
URL:https://www.achurchnearyou.com/church/15174/service-and-events/events/
 1022854/
END:VEVENT
BEGIN:VEVENT
SUMMARY:Morning Service
DTSTART;TZID=Europe/London:20260614T103000
DTEND;TZID=Europe/London:20260614T113000
DTSTAMP:20260422T115548Z
UID:10223061781429400.0achurchnearyou
CATEGORIES:
DESCRIPTION:Our Sunday Services begin at 10:30am and last for about 1 hour
 . Sometimes we share in a joint team service\, so are not always in St Ste
 phens. The usual pattern is:\n     1st Sunday St Stephens Team Service Hol
 y Communion\n     2nd Sunday St Stephens & St Marks\n     3rd Sunday St Ma
 rks Team Service Holy Communion\n     4th Sunday St Stephens & St Marks\n 
     5th Sunday check our notice sheet news update here https://www.gateacr
 eteam.com/news-updates\n\nSeasonal events will also cause us to change whe
 re and how we worship\, so again best to double check our notices if it is
  Lent and Easter\, Harvest\, Remembrance or Advent and Christmas.
GEO:-2.868847;53.394896
LOCATION:St Mark's
URL:https://www.achurchnearyou.com/church/15174/service-and-events/events/
 1022306/
END:VEVENT
BEGIN:VEVENT
SUMMARY:Foodbank
DTSTART;TZID=Europe/London:20260620T100000
DTEND;TZID=Europe/London:20260620T120000
DTSTAMP:20260422T115548Z
UID:10228541781946000.0achurchnearyou
CATEGORIES:
DESCRIPTION:Trussell Trust Foodbank
GEO:-2.868847;53.394896
LOCATION:St Mark's
URL:https://www.achurchnearyou.com/church/15174/service-and-events/events/
 1022854/
END:VEVENT
BEGIN:VEVENT
SUMMARY:Morning Service
DTSTART;TZID=Europe/London:20260621T103000
DTEND;TZID=Europe/London:20260621T113000
DTSTAMP:20260422T115548Z
UID:10223061782034200.0achurchnearyou
CATEGORIES:
DESCRIPTION:Our Sunday Services begin at 10:30am and last for about 1 hour
 . Sometimes we share in a joint team service\, so are not always in St Ste
 phens. The usual pattern is:\n     1st Sunday St Stephens Team Service Hol
 y Communion\n     2nd Sunday St Stephens & St Marks\n     3rd Sunday St Ma
 rks Team Service Holy Communion\n     4th Sunday St Stephens & St Marks\n 
     5th Sunday check our notice sheet news update here https://www.gateacr
 eteam.com/news-updates\n\nSeasonal events will also cause us to change whe
 re and how we worship\, so again best to double check our notices if it is
  Lent and Easter\, Harvest\, Remembrance or Advent and Christmas.
GEO:-2.868847;53.394896
LOCATION:St Mark's
URL:https://www.achurchnearyou.com/church/15174/service-and-events/events/
 1022306/
END:VEVENT
BEGIN:VEVENT
SUMMARY:Foodbank
DTSTART;TZID=Europe/London:20260627T100000
DTEND;TZID=Europe/London:20260627T120000
DTSTAMP:20260422T115548Z
UID:10228541782550800.0achurchnearyou
CATEGORIES:
DESCRIPTION:Trussell Trust Foodbank
GEO:-2.868847;53.394896
LOCATION:St Mark's
URL:https://www.achurchnearyou.com/church/15174/service-and-events/events/
 1022854/
END:VEVENT
BEGIN:VEVENT
SUMMARY:Morning Service
DTSTART;TZID=Europe/London:20260628T103000
DTEND;TZID=Europe/London:20260628T113000
DTSTAMP:20260422T115548Z
UID:10223061782639000.0achurchnearyou
CATEGORIES:
DESCRIPTION:Our Sunday Services begin at 10:30am and last for about 1 hour
 . Sometimes we share in a joint team service\, so are not always in St Ste
 phens. The usual pattern is:\n     1st Sunday St Stephens Team Service Hol
 y Communion\n     2nd Sunday St Stephens & St Marks\n     3rd Sunday St Ma
 rks Team Service Holy Communion\n     4th Sunday St Stephens & St Marks\n 
     5th Sunday check our notice sheet news update here https://www.gateacr
 eteam.com/news-updates\n\nSeasonal events will also cause us to change whe
 re and how we worship\, so again best to double check our notices if it is
  Lent and Easter\, Harvest\, Remembrance or Advent and Christmas.
GEO:-2.868847;53.394896
LOCATION:St Mark's
URL:https://www.achurchnearyou.com/church/15174/service-and-events/events/
 1022306/
END:VEVENT
BEGIN:VEVENT
SUMMARY:Foodbank
DTSTART;TZID=Europe/London:20260704T100000
DTEND;TZID=Europe/London:20260704T120000
DTSTAMP:20260422T115548Z
UID:10228541783155600.0achurchnearyou
CATEGORIES:
DESCRIPTION:Trussell Trust Foodbank
GEO:-2.868847;53.394896
LOCATION:St Mark's
URL:https://www.achurchnearyou.com/church/15174/service-and-events/events/
 1022854/
END:VEVENT
BEGIN:VEVENT
SUMMARY:Foodbank
DTSTART;TZID=Europe/London:20260711T100000
DTEND;TZID=Europe/London:20260711T120000
DTSTAMP:20260422T115548Z
UID:10228541783760400.0achurchnearyou
CATEGORIES:
DESCRIPTION:Trussell Trust Foodbank
GEO:-2.868847;53.394896
LOCATION:St Mark's
URL:https://www.achurchnearyou.com/church/15174/service-and-events/events/
 1022854/
END:VEVENT
BEGIN:VEVENT
SUMMARY:Morning Service
DTSTART;TZID=Europe/London:20260712T103000
DTEND;TZID=Europe/London:20260712T113000
DTSTAMP:20260422T115548Z
UID:10223061783848600.0achurchnearyou
CATEGORIES:
DESCRIPTION:Our Sunday Services begin at 10:30am and last for about 1 hour
 . Sometimes we share in a joint team service\, so are not always in St Ste
 phens. The usual pattern is:\n     1st Sunday St Stephens Team Service Hol
 y Communion\n     2nd Sunday St Stephens & St Marks\n     3rd Sunday St Ma
 rks Team Service Holy Communion\n     4th Sunday St Stephens & St Marks\n 
     5th Sunday check our notice sheet news update here https://www.gateacr
 eteam.com/news-updates\n\nSeasonal events will also cause us to change whe
 re and how we worship\, so again best to double check our notices if it is
  Lent and Easter\, Harvest\, Remembrance or Advent and Christmas.
GEO:-2.868847;53.394896
LOCATION:St Mark's
URL:https://www.achurchnearyou.com/church/15174/service-and-events/events/
 1022306/
END:VEVENT
BEGIN:VEVENT
SUMMARY:Foodbank
DTSTART;TZID=Europe/London:20260718T100000
DTEND;TZID=Europe/London:20260718T120000
DTSTAMP:20260422T115548Z
UID:10228541784365200.0achurchnearyou
CATEGORIES:
DESCRIPTION:Trussell Trust Foodbank
GEO:-2.868847;53.394896
LOCATION:St Mark's
URL:https://www.achurchnearyou.com/church/15174/service-and-events/events/
 1022854/
END:VEVENT
BEGIN:VEVENT
SUMMARY:Morning Service
DTSTART;TZID=Europe/London:20260719T103000
DTEND;TZID=Europe/London:20260719T113000
DTSTAMP:20260422T115548Z
UID:10223061784453400.0achurchnearyou
CATEGORIES:
DESCRIPTION:Our Sunday Services begin at 10:30am and last for about 1 hour
 . Sometimes we share in a joint team service\, so are not always in St Ste
 phens. The usual pattern is:\n     1st Sunday St Stephens Team Service Hol
 y Communion\n     2nd Sunday St Stephens & St Marks\n     3rd Sunday St Ma
 rks Team Service Holy Communion\n     4th Sunday St Stephens & St Marks\n 
     5th Sunday check our notice sheet news update here https://www.gateacr
 eteam.com/news-updates\n\nSeasonal events will also cause us to change whe
 re and how we worship\, so again best to double check our notices if it is
  Lent and Easter\, Harvest\, Remembrance or Advent and Christmas.
GEO:-2.868847;53.394896
LOCATION:St Mark's
URL:https://www.achurchnearyou.com/church/15174/service-and-events/events/
 1022306/
END:VEVENT
BEGIN:VEVENT
SUMMARY:Foodbank
DTSTART;TZID=Europe/London:20260725T100000
DTEND;TZID=Europe/London:20260725T120000
DTSTAMP:20260422T115548Z
UID:10228541784970000.0achurchnearyou
CATEGORIES:
DESCRIPTION:Trussell Trust Foodbank
GEO:-2.868847;53.394896
LOCATION:St Mark's
URL:https://www.achurchnearyou.com/church/15174/service-and-events/events/
 1022854/
END:VEVENT
BEGIN:VEVENT
SUMMARY:Morning Service
DTSTART;TZID=Europe/London:20260726T103000
DTEND;TZID=Europe/London:20260726T113000
DTSTAMP:20260422T115548Z
UID:10223061785058200.0achurchnearyou
CATEGORIES:
DESCRIPTION:Our Sunday Services begin at 10:30am and last for about 1 hour
 . Sometimes we share in a joint team service\, so are not always in St Ste
 phens. The usual pattern is:\n     1st Sunday St Stephens Team Service Hol
 y Communion\n     2nd Sunday St Stephens & St Marks\n     3rd Sunday St Ma
 rks Team Service Holy Communion\n     4th Sunday St Stephens & St Marks\n 
     5th Sunday check our notice sheet news update here https://www.gateacr
 eteam.com/news-updates\n\nSeasonal events will also cause us to change whe
 re and how we worship\, so again best to double check our notices if it is
  Lent and Easter\, Harvest\, Remembrance or Advent and Christmas.
GEO:-2.868847;53.394896
LOCATION:St Mark's
URL:https://www.achurchnearyou.com/church/15174/service-and-events/events/
 1022306/
END:VEVENT
BEGIN:VEVENT
SUMMARY:Foodbank
DTSTART;TZID=Europe/London:20260801T100000
DTEND;TZID=Europe/London:20260801T120000
DTSTAMP:20260422T115548Z
UID:10228541785574800.0achurchnearyou
CATEGORIES:
DESCRIPTION:Trussell Trust Foodbank
GEO:-2.868847;53.394896
LOCATION:St Mark's
URL:https://www.achurchnearyou.com/church/15174/service-and-events/events/
 1022854/
END:VEVENT
BEGIN:VEVENT
SUMMARY:Foodbank
DTSTART;TZID=Europe/London:20260808T100000
DTEND;TZID=Europe/London:20260808T120000
DTSTAMP:20260422T115548Z
UID:10228541786179600.0achurchnearyou
CATEGORIES:
DESCRIPTION:Trussell Trust Foodbank
GEO:-2.868847;53.394896
LOCATION:St Mark's
URL:https://www.achurchnearyou.com/church/15174/service-and-events/events/
 1022854/
END:VEVENT
BEGIN:VEVENT
SUMMARY:Morning Service
DTSTART;TZID=Europe/London:20260809T103000
DTEND;TZID=Europe/London:20260809T113000
DTSTAMP:20260422T115548Z
UID:10223061786267800.0achurchnearyou
CATEGORIES:
DESCRIPTION:Our Sunday Services begin at 10:30am and last for about 1 hour
 . Sometimes we share in a joint team service\, so are not always in St Ste
 phens. The usual pattern is:\n     1st Sunday St Stephens Team Service Hol
 y Communion\n     2nd Sunday St Stephens & St Marks\n     3rd Sunday St Ma
 rks Team Service Holy Communion\n     4th Sunday St Stephens & St Marks\n 
     5th Sunday check our notice sheet news update here https://www.gateacr
 eteam.com/news-updates\n\nSeasonal events will also cause us to change whe
 re and how we worship\, so again best to double check our notices if it is
  Lent and Easter\, Harvest\, Remembrance or Advent and Christmas.
GEO:-2.868847;53.394896
LOCATION:St Mark's
URL:https://www.achurchnearyou.com/church/15174/service-and-events/events/
 1022306/
END:VEVENT
BEGIN:VEVENT
SUMMARY:Foodbank
DTSTART;TZID=Europe/London:20260815T100000
DTEND;TZID=Europe/London:20260815T120000
DTSTAMP:20260422T115548Z
UID:10228541786784400.0achurchnearyou
CATEGORIES:
DESCRIPTION:Trussell Trust Foodbank
GEO:-2.868847;53.394896
LOCATION:St Mark's
URL:https://www.achurchnearyou.com/church/15174/service-and-events/events/
 1022854/
END:VEVENT
BEGIN:VEVENT
SUMMARY:Morning Service
DTSTART;TZID=Europe/London:20260816T103000
DTEND;TZID=Europe/London:20260816T113000
DTSTAMP:20260422T115548Z
UID:10223061786872600.0achurchnearyou
CATEGORIES:
DESCRIPTION:Our Sunday Services begin at 10:30am and last for about 1 hour
 . Sometimes we share in a joint team service\, so are not always in St Ste
 phens. The usual pattern is:\n     1st Sunday St Stephens Team Service Hol
 y Communion\n     2nd Sunday St Stephens & St Marks\n     3rd Sunday St Ma
 rks Team Service Holy Communion\n     4th Sunday St Stephens & St Marks\n 
     5th Sunday check our notice sheet news update here https://www.gateacr
 eteam.com/news-updates\n\nSeasonal events will also cause us to change whe
 re and how we worship\, so again best to double check our notices if it is
  Lent and Easter\, Harvest\, Remembrance or Advent and Christmas.
GEO:-2.868847;53.394896
LOCATION:St Mark's
URL:https://www.achurchnearyou.com/church/15174/service-and-events/events/
 1022306/
END:VEVENT
BEGIN:VEVENT
SUMMARY:Foodbank
DTSTART;TZID=Europe/London:20260822T100000
DTEND;TZID=Europe/London:20260822T120000
DTSTAMP:20260422T115548Z
UID:10228541787389200.0achurchnearyou
CATEGORIES:
DESCRIPTION:Trussell Trust Foodbank
GEO:-2.868847;53.394896
LOCATION:St Mark's
URL:https://www.achurchnearyou.com/church/15174/service-and-events/events/
 1022854/
END:VEVENT
BEGIN:VEVENT
SUMMARY:Morning Service
DTSTART;TZID=Europe/London:20260823T103000
DTEND;TZID=Europe/London:20260823T113000
DTSTAMP:20260422T115548Z
UID:10223061787477400.0achurchnearyou
CATEGORIES:
DESCRIPTION:Our Sunday Services begin at 10:30am and last for about 1 hour
 . Sometimes we share in a joint team service\, so are not always in St Ste
 phens. The usual pattern is:\n     1st Sunday St Stephens Team Service Hol
 y Communion\n     2nd Sunday St Stephens & St Marks\n     3rd Sunday St Ma
 rks Team Service Holy Communion\n     4th Sunday St Stephens & St Marks\n 
     5th Sunday check our notice sheet news update here https://www.gateacr
 eteam.com/news-updates\n\nSeasonal events will also cause us to change whe
 re and how we worship\, so again best to double check our notices if it is
  Lent and Easter\, Harvest\, Remembrance or Advent and Christmas.
GEO:-2.868847;53.394896
LOCATION:St Mark's
URL:https://www.achurchnearyou.com/church/15174/service-and-events/events/
 1022306/
END:VEVENT
BEGIN:VEVENT
SUMMARY:Foodbank
DTSTART;TZID=Europe/London:20260829T100000
DTEND;TZID=Europe/London:20260829T120000
DTSTAMP:20260422T115548Z
UID:10228541787994000.0achurchnearyou
CATEGORIES:
DESCRIPTION:Trussell Trust Foodbank
GEO:-2.868847;53.394896
LOCATION:St Mark's
URL:https://www.achurchnearyou.com/church/15174/service-and-events/events/
 1022854/
END:VEVENT
BEGIN:VEVENT
SUMMARY:Foodbank
DTSTART;TZID=Europe/London:20260905T100000
DTEND;TZID=Europe/London:20260905T120000
DTSTAMP:20260422T115548Z
UID:10228541788598800.0achurchnearyou
CATEGORIES:
DESCRIPTION:Trussell Trust Foodbank
GEO:-2.868847;53.394896
LOCATION:St Mark's
URL:https://www.achurchnearyou.com/church/15174/service-and-events/events/
 1022854/
END:VEVENT
BEGIN:VEVENT
SUMMARY:Foodbank
DTSTART;TZID=Europe/London:20260912T100000
DTEND;TZID=Europe/London:20260912T120000
DTSTAMP:20260422T115548Z
UID:10228541789203600.0achurchnearyou
CATEGORIES:
DESCRIPTION:Trussell Trust Foodbank
GEO:-2.868847;53.394896
LOCATION:St Mark's
URL:https://www.achurchnearyou.com/church/15174/service-and-events/events/
 1022854/
END:VEVENT
BEGIN:VEVENT
SUMMARY:Morning Service
DTSTART;TZID=Europe/London:20260913T103000
DTEND;TZID=Europe/London:20260913T113000
DTSTAMP:20260422T115548Z
UID:10223061789291800.0achurchnearyou
CATEGORIES:
DESCRIPTION:Our Sunday Services begin at 10:30am and last for about 1 hour
 . Sometimes we share in a joint team service\, so are not always in St Ste
 phens. The usual pattern is:\n     1st Sunday St Stephens Team Service Hol
 y Communion\n     2nd Sunday St Stephens & St Marks\n     3rd Sunday St Ma
 rks Team Service Holy Communion\n     4th Sunday St Stephens & St Marks\n 
     5th Sunday check our notice sheet news update here https://www.gateacr
 eteam.com/news-updates\n\nSeasonal events will also cause us to change whe
 re and how we worship\, so again best to double check our notices if it is
  Lent and Easter\, Harvest\, Remembrance or Advent and Christmas.
GEO:-2.868847;53.394896
LOCATION:St Mark's
URL:https://www.achurchnearyou.com/church/15174/service-and-events/events/
 1022306/
END:VEVENT
BEGIN:VEVENT
SUMMARY:Foodbank
DTSTART;TZID=Europe/London:20260919T100000
DTEND;TZID=Europe/London:20260919T120000
DTSTAMP:20260422T115548Z
UID:10228541789808400.0achurchnearyou
CATEGORIES:
DESCRIPTION:Trussell Trust Foodbank
GEO:-2.868847;53.394896
LOCATION:St Mark's
URL:https://www.achurchnearyou.com/church/15174/service-and-events/events/
 1022854/
END:VEVENT
BEGIN:VEVENT
SUMMARY:Morning Service
DTSTART;TZID=Europe/London:20260920T103000
DTEND;TZID=Europe/London:20260920T113000
DTSTAMP:20260422T115548Z
UID:10223061789896600.0achurchnearyou
CATEGORIES:
DESCRIPTION:Our Sunday Services begin at 10:30am and last for about 1 hour
 . Sometimes we share in a joint team service\, so are not always in St Ste
 phens. The usual pattern is:\n     1st Sunday St Stephens Team Service Hol
 y Communion\n     2nd Sunday St Stephens & St Marks\n     3rd Sunday St Ma
 rks Team Service Holy Communion\n     4th Sunday St Stephens & St Marks\n 
     5th Sunday check our notice sheet news update here https://www.gateacr
 eteam.com/news-updates\n\nSeasonal events will also cause us to change whe
 re and how we worship\, so again best to double check our notices if it is
  Lent and Easter\, Harvest\, Remembrance or Advent and Christmas.
GEO:-2.868847;53.394896
LOCATION:St Mark's
URL:https://www.achurchnearyou.com/church/15174/service-and-events/events/
 1022306/
END:VEVENT
BEGIN:VEVENT
SUMMARY:Foodbank
DTSTART;TZID=Europe/London:20260926T100000
DTEND;TZID=Europe/London:20260926T120000
DTSTAMP:20260422T115548Z
UID:10228541790413200.0achurchnearyou
CATEGORIES:
DESCRIPTION:Trussell Trust Foodbank
GEO:-2.868847;53.394896
LOCATION:St Mark's
URL:https://www.achurchnearyou.com/church/15174/service-and-events/events/
 1022854/
END:VEVENT
BEGIN:VEVENT
SUMMARY:Morning Service
DTSTART;TZID=Europe/London:20260927T103000
DTEND;TZID=Europe/London:20260927T113000
DTSTAMP:20260422T115548Z
UID:10223061790501400.0achurchnearyou
CATEGORIES:
DESCRIPTION:Our Sunday Services begin at 10:30am and last for about 1 hour
 . Sometimes we share in a joint team service\, so are not always in St Ste
 phens. The usual pattern is:\n     1st Sunday St Stephens Team Service Hol
 y Communion\n     2nd Sunday St Stephens & St Marks\n     3rd Sunday St Ma
 rks Team Service Holy Communion\n     4th Sunday St Stephens & St Marks\n 
     5th Sunday check our notice sheet news update here https://www.gateacr
 eteam.com/news-updates\n\nSeasonal events will also cause us to change whe
 re and how we worship\, so again best to double check our notices if it is
  Lent and Easter\, Harvest\, Remembrance or Advent and Christmas.
GEO:-2.868847;53.394896
LOCATION:St Mark's
URL:https://www.achurchnearyou.com/church/15174/service-and-events/events/
 1022306/
END:VEVENT
END:VCALENDAR
