BEGIN:VCALENDAR
VERSION:2.0
PRODID:-//achurchnearyou.com//eventfeed//EN
CALSCALE:GREGORIAN
METHOD:PUBLISH
X-WR-TIMEZONE:UTC
BEGIN:VEVENT
SUMMARY:Christmas Fayre
DTSTART:20251129T100000Z
DTEND:20251129T130000Z
DTSTAMP:20260421T113334Z
UID:12327582025-11-29 10:00:00+00:00achurchnearyou
CATEGORIES:
DESCRIPTION:All welcome to our Christmas Fayre in the Church Hall\, in aid
  of Church Funds.  Many stalls\, Tombola\, Gifts\, Hand-Made Goods\, Bacon
  and Sausage Barms\, Mince Pies\,  Cake Stall\, Children's Activities and 
 Father Christmas from 11am!
GEO:-3.059497;53.52591
LOCATION:St. Stephen
URL:https://www.achurchnearyou.com/church/15178/service-and-events/events/
 1232758/
END:VEVENT
END:VCALENDAR
