BEGIN:VCALENDAR
VERSION:2.0
PRODID:-//achurchnearyou.com//eventfeed//EN
CALSCALE:GREGORIAN
METHOD:PUBLISH
X-WR-TIMEZONE:UTC
BEGIN:VEVENT
SUMMARY:Eucharist\, Handwashing\, Stripping of the Altar and Watch
DTSTART:20260402T180000Z
DTEND:20260402T203000Z
DTSTAMP:20260421T014658Z
UID:13010012026-04-02 18:00:00+00:00achurchnearyou
CATEGORIES:
DESCRIPTION:All are most welcome to join us on Maundy Thursday for a speci
 al reflective Eucharist with handwashing\, Stripping of the Altar and Sanc
 tuary and Watch with readings and psalms.
GEO:-3.059497;53.52591
LOCATION:St. Stephen
URL:https://www.achurchnearyou.com/church/15178/service-and-events/events/
 1301001/
END:VEVENT
END:VCALENDAR
