BEGIN:VCALENDAR
VERSION:2.0
PRODID:-//achurchnearyou.com//eventfeed//EN
CALSCALE:GREGORIAN
METHOD:PUBLISH
X-WR-TIMEZONE:UTC
BEGIN:VEVENT
SUMMARY:Last Words of Love- Good Friday
DTSTART:20260403T130000Z
DTEND:20260403T140000Z
DTSTAMP:20260421T014335Z
UID:13010022026-04-03 13:00:00+00:00achurchnearyou
CATEGORIES:
DESCRIPTION:All are very welcome to join us in church as we hear and refle
 ct on Jesus' 'Last Words of Love'.
GEO:-3.059497;53.52591
LOCATION:St. Stephen
URL:https://www.achurchnearyou.com/church/15178/service-and-events/events/
 1301002/
END:VEVENT
END:VCALENDAR
