BEGIN:VCALENDAR
VERSION:2.0
PRODID:-//achurchnearyou.com//eventfeed//EN
CALSCALE:GREGORIAN
METHOD:PUBLISH
X-WR-TIMEZONE:UTC
BEGIN:VEVENT
SUMMARY:Holy Week Evening Compline & Reflection
DTSTART:20260401T183000Z
DTEND:20260401T193000Z
DTSTAMP:20260425T165206Z
UID:9138422026-04-01 18:30:00+00:00achurchnearyou
CATEGORIES:
DESCRIPTION:Compline is a reflective sung service with hymns and a short t
 alk on the theme - Guatemala 'The Santo Entierro Parade'
LOCATION:St Peter's Church\, Formby
URL:https://www.achurchnearyou.com/church/15184/service-and-events/events/
 913842/
END:VEVENT
END:VCALENDAR
