BEGIN:VCALENDAR
VERSION:2.0
PRODID:-//achurchnearyou.com//eventfeed//EN
CALSCALE:GREGORIAN
METHOD:PUBLISH
X-WR-TIMEZONE:UTC
BEGIN:VEVENT
SUMMARY:Church & Grounds - Clean & Tidy
DTSTART;TZID=Europe/London:20260502T100000
DTEND;TZID=Europe/London:20260502T120000
DTSTAMP:20260422T155036Z
UID:7598642026-05-02 10:00:00+01:00achurchnearyou
CATEGORIES:
DESCRIPTION:Join us as we clean Church and do some general maintenance and
  gardening around the place.  We start at 10am on the first Saturday of ea
 ch month.  If you can bring some of your own cleaning/gardening equipment 
 that would help\, as we have limited supplies.  Thank you!
GEO:-2.909756;53.410881
LOCATION:All Saints Stoneycroft
URL:https://www.achurchnearyou.com/church/15216/service-and-events/events/
 759864/
END:VEVENT
BEGIN:VEVENT
SUMMARY:Church & Grounds - Clean & Tidy
DTSTART;TZID=Europe/London:20260606T100000
DTEND;TZID=Europe/London:20260606T120000
DTSTAMP:20260422T155036Z
UID:7598642026-06-06 10:00:00+01:00achurchnearyou
CATEGORIES:
DESCRIPTION:Join us as we clean Church and do some general maintenance and
  gardening around the place.  We start at 10am on the first Saturday of ea
 ch month.  If you can bring some of your own cleaning/gardening equipment 
 that would help\, as we have limited supplies.  Thank you!
GEO:-2.909756;53.410881
LOCATION:All Saints Stoneycroft
URL:https://www.achurchnearyou.com/church/15216/service-and-events/events/
 759864/
END:VEVENT
BEGIN:VEVENT
SUMMARY:Church & Grounds - Clean & Tidy
DTSTART;TZID=Europe/London:20260704T100000
DTEND;TZID=Europe/London:20260704T120000
DTSTAMP:20260422T155036Z
UID:7598642026-07-04 10:00:00+01:00achurchnearyou
CATEGORIES:
DESCRIPTION:Join us as we clean Church and do some general maintenance and
  gardening around the place.  We start at 10am on the first Saturday of ea
 ch month.  If you can bring some of your own cleaning/gardening equipment 
 that would help\, as we have limited supplies.  Thank you!
GEO:-2.909756;53.410881
LOCATION:All Saints Stoneycroft
URL:https://www.achurchnearyou.com/church/15216/service-and-events/events/
 759864/
END:VEVENT
BEGIN:VEVENT
SUMMARY:Church & Grounds - Clean & Tidy
DTSTART;TZID=Europe/London:20260801T100000
DTEND;TZID=Europe/London:20260801T120000
DTSTAMP:20260422T155036Z
UID:7598642026-08-01 10:00:00+01:00achurchnearyou
CATEGORIES:
DESCRIPTION:Join us as we clean Church and do some general maintenance and
  gardening around the place.  We start at 10am on the first Saturday of ea
 ch month.  If you can bring some of your own cleaning/gardening equipment 
 that would help\, as we have limited supplies.  Thank you!
GEO:-2.909756;53.410881
LOCATION:All Saints Stoneycroft
URL:https://www.achurchnearyou.com/church/15216/service-and-events/events/
 759864/
END:VEVENT
BEGIN:VEVENT
SUMMARY:Church & Grounds - Clean & Tidy
DTSTART;TZID=Europe/London:20260905T100000
DTEND;TZID=Europe/London:20260905T120000
DTSTAMP:20260422T155036Z
UID:7598642026-09-05 10:00:00+01:00achurchnearyou
CATEGORIES:
DESCRIPTION:Join us as we clean Church and do some general maintenance and
  gardening around the place.  We start at 10am on the first Saturday of ea
 ch month.  If you can bring some of your own cleaning/gardening equipment 
 that would help\, as we have limited supplies.  Thank you!
GEO:-2.909756;53.410881
LOCATION:All Saints Stoneycroft
URL:https://www.achurchnearyou.com/church/15216/service-and-events/events/
 759864/
END:VEVENT
BEGIN:VEVENT
SUMMARY:Church & Grounds - Clean & Tidy
DTSTART;TZID=Europe/London:20261003T100000
DTEND;TZID=Europe/London:20261003T120000
DTSTAMP:20260422T155036Z
UID:7598642026-10-03 10:00:00+01:00achurchnearyou
CATEGORIES:
DESCRIPTION:Join us as we clean Church and do some general maintenance and
  gardening around the place.  We start at 10am on the first Saturday of ea
 ch month.  If you can bring some of your own cleaning/gardening equipment 
 that would help\, as we have limited supplies.  Thank you!
GEO:-2.909756;53.410881
LOCATION:All Saints Stoneycroft
URL:https://www.achurchnearyou.com/church/15216/service-and-events/events/
 759864/
END:VEVENT
BEGIN:VEVENT
SUMMARY:Church & Grounds - Clean & Tidy
DTSTART;TZID=Europe/London:20261107T100000
DTEND;TZID=Europe/London:20261107T120000
DTSTAMP:20260422T155036Z
UID:7598642026-11-07 10:00:00+00:00achurchnearyou
CATEGORIES:
DESCRIPTION:Join us as we clean Church and do some general maintenance and
  gardening around the place.  We start at 10am on the first Saturday of ea
 ch month.  If you can bring some of your own cleaning/gardening equipment 
 that would help\, as we have limited supplies.  Thank you!
GEO:-2.909756;53.410881
LOCATION:All Saints Stoneycroft
URL:https://www.achurchnearyou.com/church/15216/service-and-events/events/
 759864/
END:VEVENT
BEGIN:VEVENT
SUMMARY:Church & Grounds - Clean & Tidy
DTSTART;TZID=Europe/London:20261205T100000
DTEND;TZID=Europe/London:20261205T120000
DTSTAMP:20260422T155036Z
UID:7598642026-12-05 10:00:00+00:00achurchnearyou
CATEGORIES:
DESCRIPTION:Join us as we clean Church and do some general maintenance and
  gardening around the place.  We start at 10am on the first Saturday of ea
 ch month.  If you can bring some of your own cleaning/gardening equipment 
 that would help\, as we have limited supplies.  Thank you!
GEO:-2.909756;53.410881
LOCATION:All Saints Stoneycroft
URL:https://www.achurchnearyou.com/church/15216/service-and-events/events/
 759864/
END:VEVENT
BEGIN:VEVENT
SUMMARY:Church & Grounds - Clean & Tidy
DTSTART;TZID=Europe/London:20270102T100000
DTEND;TZID=Europe/London:20270102T120000
DTSTAMP:20260422T155036Z
UID:7598642027-01-02 10:00:00+00:00achurchnearyou
CATEGORIES:
DESCRIPTION:Join us as we clean Church and do some general maintenance and
  gardening around the place.  We start at 10am on the first Saturday of ea
 ch month.  If you can bring some of your own cleaning/gardening equipment 
 that would help\, as we have limited supplies.  Thank you!
GEO:-2.909756;53.410881
LOCATION:All Saints Stoneycroft
URL:https://www.achurchnearyou.com/church/15216/service-and-events/events/
 759864/
END:VEVENT
BEGIN:VEVENT
SUMMARY:Church & Grounds - Clean & Tidy
DTSTART;TZID=Europe/London:20270206T100000
DTEND;TZID=Europe/London:20270206T120000
DTSTAMP:20260422T155036Z
UID:7598642027-02-06 10:00:00+00:00achurchnearyou
CATEGORIES:
DESCRIPTION:Join us as we clean Church and do some general maintenance and
  gardening around the place.  We start at 10am on the first Saturday of ea
 ch month.  If you can bring some of your own cleaning/gardening equipment 
 that would help\, as we have limited supplies.  Thank you!
GEO:-2.909756;53.410881
LOCATION:All Saints Stoneycroft
URL:https://www.achurchnearyou.com/church/15216/service-and-events/events/
 759864/
END:VEVENT
BEGIN:VEVENT
SUMMARY:Church & Grounds - Clean & Tidy
DTSTART;TZID=Europe/London:20270306T100000
DTEND;TZID=Europe/London:20270306T120000
DTSTAMP:20260422T155036Z
UID:7598642027-03-06 10:00:00+00:00achurchnearyou
CATEGORIES:
DESCRIPTION:Join us as we clean Church and do some general maintenance and
  gardening around the place.  We start at 10am on the first Saturday of ea
 ch month.  If you can bring some of your own cleaning/gardening equipment 
 that would help\, as we have limited supplies.  Thank you!
GEO:-2.909756;53.410881
LOCATION:All Saints Stoneycroft
URL:https://www.achurchnearyou.com/church/15216/service-and-events/events/
 759864/
END:VEVENT
BEGIN:VEVENT
SUMMARY:Church & Grounds - Clean & Tidy
DTSTART;TZID=Europe/London:20270403T100000
DTEND;TZID=Europe/London:20270403T120000
DTSTAMP:20260422T155036Z
UID:7598642027-04-03 10:00:00+01:00achurchnearyou
CATEGORIES:
DESCRIPTION:Join us as we clean Church and do some general maintenance and
  gardening around the place.  We start at 10am on the first Saturday of ea
 ch month.  If you can bring some of your own cleaning/gardening equipment 
 that would help\, as we have limited supplies.  Thank you!
GEO:-2.909756;53.410881
LOCATION:All Saints Stoneycroft
URL:https://www.achurchnearyou.com/church/15216/service-and-events/events/
 759864/
END:VEVENT
END:VCALENDAR
