BEGIN:VCALENDAR
VERSION:2.0
PRODID:-//achurchnearyou.com//eventfeed//EN
CALSCALE:GREGORIAN
METHOD:PUBLISH
X-WR-TIMEZONE:UTC
BEGIN:VEVENT
SUMMARY:70 Years Of Halsall Rose Queens
DTSTART:20251007T183000Z
DTEND:20251007T203000Z
DTSTAMP:20260424T083312Z
UID:12266662025-10-07 18:30:00+00:00achurchnearyou
CATEGORIES:
DESCRIPTION:Join us for a free illustrated talk and book sale. Proceeds fr
 om book sale will go towards the church disabled access fund
LOCATION:Halsall Memorial Hall
URL:https://www.achurchnearyou.com/church/15230/service-and-events/events/
 1226666/
END:VEVENT
END:VCALENDAR
