BEGIN:VCALENDAR
VERSION:2.0
PRODID:-//achurchnearyou.com//eventfeed//EN
CALSCALE:GREGORIAN
METHOD:PUBLISH
X-WR-TIMEZONE:UTC
BEGIN:VEVENT
SUMMARY:Maundy Thursday
DTSTART:20260402T123000Z
DTEND:20260402T133000Z
DTSTAMP:20260423T103712Z
UID:12882372026-04-02 12:30:00+00:00achurchnearyou
CATEGORIES:
DESCRIPTION:Mid-week communion with anointing
GEO:-2.952318;53.585488
LOCATION:St. Cuthbert's
URL:https://www.achurchnearyou.com/church/15230/service-and-events/events/
 1288237/
END:VEVENT
END:VCALENDAR
