BEGIN:VCALENDAR
VERSION:2.0
PRODID:-//achurchnearyou.com//eventfeed//EN
CALSCALE:GREGORIAN
METHOD:PUBLISH
X-WR-TIMEZONE:UTC
BEGIN:VEVENT
SUMMARY:Walking in St Francis’ Footsteps
DTSTART:20251021T183000Z
DTEND:20251021T200000Z
DTSTAMP:20260420T062649Z
UID:12350102025-10-21 18:30:00+00:00achurchnearyou
CATEGORIES:
DESCRIPTION:Join us for an inspiring evening as Rector Sue shares reflecti
 ons from her recent pilgrimage to Assisi 🇮🇹 — the beautiful hill t
 own forever linked with St Francis🕊️\n🙏St Francis of Assisi\, born
  in the 12th century\, is remembered for his deep love of creation🌻\, h
 is care for the poor💖\, and his timeless message of peace and simplicit
 y. He saw all living things as brothers and sisters under God’s care —
  from the birds of the air 🐦to the flowers of the field 🌸.\n🌍Rect
 or Sue will take us on a journey through the places she visited in Assisi 
 and explore how St Francis’ spirit of harmony with nature continues to s
 peak to us today 🌞🍃.\n☕ There will also be tea\, coffee\, and a sm
 all raffle 🎟️ \nAll are warmly welcome — come and share in an eveni
 ng of reflection\, beauty\, and hope 💫💒.\n#StFrancis #Assisi #FaithA
 ndNature #CommunityEvent #PeaceAndCreation
LOCATION:Millennium Centre
URL:https://www.achurchnearyou.com/church/15232/service-and-events/events/
 1235010/
END:VEVENT
END:VCALENDAR
