BEGIN:VCALENDAR
VERSION:2.0
PRODID:-//achurchnearyou.com//eventfeed//EN
CALSCALE:GREGORIAN
METHOD:PUBLISH
X-WR-TIMEZONE:UTC
BEGIN:VEVENT
SUMMARY:Advent Carols
DTSTART:20251214T160000Z
DTEND:20251214T170000Z
DTSTAMP:20260420T030203Z
UID:12559452025-12-14 16:00:00+00:00achurchnearyou
CATEGORIES:
DESCRIPTION:🎶📖Nine Lessons and Carols 🎶📖
GEO:-2.962395;53.544321
LOCATION:The Parish Church of St Thomas\, Lydiate and Downholland
URL:https://www.achurchnearyou.com/church/15232/service-and-events/events/
 1255945/
END:VEVENT
END:VCALENDAR
