BEGIN:VCALENDAR
VERSION:2.0
PRODID:-//achurchnearyou.com//eventfeed//EN
CALSCALE:GREGORIAN
METHOD:PUBLISH
X-WR-TIMEZONE:UTC
BEGIN:VEVENT
SUMMARY:Palm Sunday
DTSTART:20260329T070000Z
DTEND:20260329T080000Z
DTSTAMP:20260419T194548Z
UID:12882202026-03-29 07:00:00+00:00achurchnearyou
CATEGORIES:
DESCRIPTION:Holy Communion with distribution of palm crosses
GEO:-2.962395;53.544321
LOCATION:The Parish Church of St Thomas\, Lydiate and Downholland
URL:https://www.achurchnearyou.com/church/15232/service-and-events/events/
 1288220/
END:VEVENT
END:VCALENDAR
