BEGIN:VCALENDAR
VERSION:2.0
PRODID:-//achurchnearyou.com//eventfeed//EN
CALSCALE:GREGORIAN
METHOD:PUBLISH
X-WR-TIMEZONE:UTC
BEGIN:VEVENT
SUMMARY:Tuesday Of Holy Week
DTSTART:20260331T180000Z
DTEND:20260331T190000Z
DTSTAMP:20260419T195615Z
UID:12882262026-03-31 18:00:00+00:00achurchnearyou
CATEGORIES:
DESCRIPTION:Said Communion Service
GEO:-2.962395;53.544321
LOCATION:The Parish Church of St Thomas\, Lydiate and Downholland
URL:https://www.achurchnearyou.com/church/15232/service-and-events/events/
 1288226/
END:VEVENT
END:VCALENDAR
